BEGIN:VCALENDAR
VERSION:2.0
PRODID:-//ChamberMaster//Event Calendar 2.0//EN
METHOD:PUBLISH
X-PUBLISHED-TTL:P3D
REFRESH-INTERVAL:P3D
CALSCALE:GREGORIAN
BEGIN:VEVENT
DTSTART:20251026T150000Z
DTEND:20251026T190000Z
X-MICROSOFT-CDO-ALLDAYEVENT:FALSE
SUMMARY:Festivals of Speed
DESCRIPTION:Mission Resort + Club is thrilled to host Festivals of Speed\, the premier luxury and exotic car show experience in the southeastern U.S. This exclusive event brings together an extraordinary collection of vehicles from vintage classics and muscle cars to exotic brands like McLaren\, Porsche\, Maserati\, Bentley\, Aston Martin\, Lamborghini\, and Ferrari.\n\nGuests will enjoy more than just the cars. The event features VIP experiences\, luxury cocktail receptions\, and curated lifestyle activations\, all set against the stunning backdrop of Las Colinas Golf Course. Whether you're a car enthusiast or simply looking for a unique day out\, this is your chance to experience automotive excellence in a beautiful resort setting.
X-ALT-DESC;FMTTYPE=text/html:<p>Mission Resort + Club is thrilled to host&nbsp\;<strong>Festivals of Speed</strong>\, the premier luxury and exotic car show experience in the southeastern U.S. This exclusive event brings together an extraordinary collection of vehicles&mdash\;from vintage classics and muscle cars to exotic brands like McLaren\, Porsche\, Maserati\, Bentley\, Aston Martin\, Lamborghini\, and Ferrari.</p>\n\n<p>Guests will enjoy more than just the cars. The event features&nbsp\;<strong>VIP experiences\, luxury cocktail receptions\, and curated lifestyle activations</strong>\, all set against the stunning backdrop of Las Colinas Golf Course. Whether you&rsquo\;re a car enthusiast or simply looking for a unique day out\, this is your chance to experience automotive excellence in a beautiful resort setting.</p>\n
LOCATION:Mission Resort + Club 10400 County Road 48\, Howey-in-the-Hills\, FL\, 34737
UID:e.3485.19732
SEQUENCE:3
DTSTAMP:20260422T120008Z
URL:https://www.mountdora.com/events/details/festivals-of-speed-19732
END:VEVENT

END:VCALENDAR
