BEGIN:VCALENDAR
VERSION:2.0
PRODID:-//ChamberMaster//Event Calendar 2.0//EN
METHOD:PUBLISH
X-PUBLISHED-TTL:P3D
REFRESH-INTERVAL:P3D
CALSCALE:GREGORIAN
BEGIN:VEVENT
DTSTART:20261003T130000Z
DTEND:20261004T210000Z
X-MICROSOFT-CDO-ALLDAYEVENT:FALSE
SUMMARY:Fall in the Field
DESCRIPTION:Antique Center\, Consignment\, Street of Shops\, The Stables\, Pavilions\, and Outdoors. Fall is here! Come shop a selection of vendors featuring items for the fall. Antiques\, collectibles\, vintage items\, and crafts. Kid Craft Area\, Pumpkin Patch.
X-ALT-DESC;FMTTYPE=text/html:Antique Center\, Consignment\, Street of Shops\, The Stables\, Pavilions\, and Outdoors. Fall is here! Come shop a selection of vendors featuring items for the fall. Antiques\, collectibles\, vintage items\, and crafts. Kid Craft Area\, Pumpkin Patch.
LOCATION:Renninger's Antique Center
UID:e.3485.19919
SEQUENCE:3
DTSTAMP:20260422T090751Z
URL:https://www.mountdora.com/events/details/fall-in-the-field-10-03-2026-19919
END:VEVENT

END:VCALENDAR
