BEGIN:VCALENDAR
VERSION:2.0
PRODID:-//ChamberMaster//Event Calendar 2.0//EN
METHOD:PUBLISH
X-PUBLISHED-TTL:P3D
REFRESH-INTERVAL:P3D
CALSCALE:GREGORIAN
BEGIN:VEVENT
DTSTART:20251018T210000Z
DTEND:20251019T010000Z
X-MICROSOFT-CDO-ALLDAYEVENT:FALSE
SUMMARY:Fall Harvest Festival
DESCRIPTION:Mark your calendar for the Fall Harvest Festival which will be taking place on October 18th in Sunset Park. \nWhat to expect: \n\n\n	Live Music by Cat Ridgeway\n	Scarecrow Stroll \n	Drone Show Display\n	Family Fall games and activities\n	Face painting\n	Festival Vendors\n	Hosted by Russ Rollins\, host of the Monsters in the Morning\n\n\n*FREE EVENT*\n\n\n\nSponsored by Renewal by Andersen\, Real Radio 104.1 and Discover Lake
X-ALT-DESC;FMTTYPE=text/html:Mark your calendar for the Fall Harvest Festival which will be taking place on October 18th in Sunset Park.&nbsp\;\n<p style="box-sizing: initial\; margin: 0px 0px 6px\; padding: 0px\; border: 0px\; outline: 0px\; font-size: 15.2px\; font-family: &quot\;Source Sans Pro&quot\;\; vertical-align: baseline\; color: rgb(51\, 51\, 51)\; background-color: rgb(255\, 255\, 255)\;"><span style="font-family:arial\;"><span style="font-size:14px\;">What to expect:&nbsp\;</span></span></p>\n\n<ul style="box-sizing: initial\; margin: 0px 0px 6px 35px\; padding: 0px\; border: 0px\; outline: 0px\; font-size: 15.2px\; font-family: &quot\;Source Sans Pro&quot\;\; vertical-align: baseline\; color: rgb(56\, 56\, 56)\; line-height: 1.5\; background-color: rgb(255\, 255\, 255)\;">\n	<li style="box-sizing: initial\; margin: 0px 0px 3px\; padding: 0px\; border: 0px\; outline: 0px\; font-weight: inherit\; font-style: inherit\; font-size: 15.2px\; font-family: inherit\; vertical-align: baseline\;"><span style="font-family:arial\;"><span style="font-size:14px\;">Live Music by Cat Ridgeway</span></span></li>\n	<li style="box-sizing: initial\; margin: 0px 0px 3px\; padding: 0px\; border: 0px\; outline: 0px\; font-weight: inherit\; font-style: inherit\; font-size: 15.2px\; font-family: inherit\; vertical-align: baseline\;"><span style="font-family:arial\;"><span style="font-size:14px\;">Scarecrow Stroll&nbsp\;</span></span></li>\n	<li style="box-sizing: initial\; margin: 0px 0px 3px\; padding: 0px\; border: 0px\; outline: 0px\; font-weight: inherit\; font-style: inherit\; font-size: 15.2px\; font-family: inherit\; vertical-align: baseline\;"><span style="font-family:arial\;"><span style="font-size:14px\;">Drone Show Display</span></span></li>\n	<li style="box-sizing: initial\; margin: 0px 0px 3px\; padding: 0px\; border: 0px\; outline: 0px\; font-weight: inherit\; font-style: inherit\; font-size: 15.2px\; font-family: inherit\; vertical-align: baseline\;"><span style="font-family:arial\;"><span style="font-size:14px\;">Family Fall games and activities</span></span></li>\n	<li style="box-sizing: initial\; margin: 0px 0px 3px\; padding: 0px\; border: 0px\; outline: 0px\; font-weight: inherit\; font-style: inherit\; font-size: 15.2px\; font-family: inherit\; vertical-align: baseline\;"><span style="font-family:arial\;"><span style="font-size:14px\;">Face painting</span></span></li>\n	<li style="box-sizing: initial\; margin: 0px 0px 3px\; padding: 0px\; border: 0px\; outline: 0px\; font-weight: inherit\; font-style: inherit\; font-size: 15.2px\; font-family: inherit\; vertical-align: baseline\;"><span style="font-family:arial\;"><span style="font-size:14px\;">Festival Vendors</span></span></li>\n	<li style="box-sizing: initial\; margin: 0px 0px 3px\; padding: 0px\; border: 0px\; outline: 0px\; font-weight: inherit\; font-style: inherit\; font-size: 15.2px\; font-family: inherit\; vertical-align: baseline\;"><span style="font-family:arial\;"><span style="font-size:14px\;">Hosted by Russ Rollins\, host of the Monsters in the Morning</span></span></li>\n</ul>\n\n<p style="box-sizing: initial\; margin: 0px 0px 6px\; padding: 0px\; border: 0px\; outline: 0px\; font-size: 15.2px\; font-family: &quot\;Source Sans Pro&quot\;\; vertical-align: baseline\; color: rgb(51\, 51\, 51)\; background-color: rgb(255\, 255\, 255)\;"><span style="font-family:arial\;"><span style="font-size:14px\;">*FREE EVENT*<br />\n<br />\nSponsored by Renewal by Andersen\, Real Radio 104.1 and Discover Lake</span></span></p>\n
LOCATION:
UID:e.3485.19734
SEQUENCE:3
DTSTAMP:20260422T120007Z
URL:https://www.mountdora.com/events/details/fall-harvest-festival-19734
END:VEVENT

END:VCALENDAR
