BEGIN:VCALENDAR
VERSION:2.0
PRODID:-//ChamberMaster//Event Calendar 2.0//EN
METHOD:PUBLISH
X-PUBLISHED-TTL:P3D
REFRESH-INTERVAL:P3D
CALSCALE:GREGORIAN
BEGIN:VEVENT
DTSTART:20251021T210000Z
DTEND:20251021T233000Z
X-MICROSOFT-CDO-ALLDAYEVENT:FALSE
SUMMARY:Essential Therapies BOO-TOX BASH
DESCRIPTION:Essential Therapies Med Spa + Day Spa BOO-TOX BASH! Live discounted Botox\, VI Peel\, IV Therapy\, treatment demos\, small bites\, raffles & spook-tacular event offers! RSVP to attend and/or reserve your Botox\, VI Peel\, or IV Therapy spot! Text 352-296-2184 or Call 352-735-0044
X-ALT-DESC;FMTTYPE=text/html:Essential Therapies Med Spa + Day Spa BOO-TOX BASH! Live discounted Botox\, VI Peel\, IV Therapy\, treatment demos\, small bites\, raffles &amp\; spook-tacular event offers! RSVP to attend and/or reserve your Botox\, VI Peel\, or IV Therapy spot! Text 352-296-2184 or Call 352-735-0044\n<p>&nbsp\;</p>\n
LOCATION:1518 N Donnelly St\, Mount Dora\, FL 32757
UID:e.3485.19730
SEQUENCE:3
DTSTAMP:20260422T102936Z
URL:https://www.mountdora.com/events/details/essential-therapies-boo-tox-bash-19730
END:VEVENT

END:VCALENDAR
