BEGIN:VCALENDAR
VERSION:2.0
PRODID:-//ChamberMaster//Event Calendar 2.0//EN
METHOD:PUBLISH
X-PUBLISHED-TTL:P3D
REFRESH-INTERVAL:P3D
CALSCALE:GREGORIAN
BEGIN:VEVENT
DTSTART:20220122T140000Z
DTEND:20220122T170000Z
X-MICROSOFT-CDO-ALLDAYEVENT:FALSE
SUMMARY:ESB3 - Successfully Marketing Your Business
DESCRIPTION:Learn how to successfully market your product or service and accomplish the following objectives:\n\n\n	identify customers and their needs\n	determine pricing\, packaging\, and distribution for your product/service\n	create a promotional plan for your business\n	get your business online.\n\n\nMarketing is about making people aware of your business and getting them to buy your product or service. In this online workshop\, we will help you make the right choices when pricing and ensure the product offerings and packaging are attractive to customers. We will help you choose the right distribution method to get your products or services in front of your customers.\n\nIf you have ever thought about starting your own business\, we have a FREE four part series in January that will guide you through all of the key elements of turning that dream into a reality. Also consider this series if you already have a business that could use a boost.\n\nThis series is perfect for aspiring and emerging business owners. The presenters have decades of business experience in the topics they teach. Our goal is to provide you with the background you need to get started on the path to success\, even during these COVID-challenged times. Our Essentials of Starting a Business Curriculum is being offered Saturday mornings in January and includes:\n\n\n	ESB1 - Creating a Quick Business Plan - Jan 8th\n	ESB2 - Successfully Starting Your Business - Jan 15th\n	ESB3 - Successfully Marketing Your Business - Jan 22nd\n	ESB4 - Managing Finances for a New Business - Jan 29th\n\n\nPlease register for the other segments (ESB1\, ESB2\, and ESB4) by going to https://midflorida.score.org/content/take-workshop-6 . We encourage you to take all of them but you can select specific topics if you prefer. Optionally\, you will also find it helpful to line up a free SCORE mentor to guide you as you go through the series. You can sign up for a mentor at https://midflorida.score.org/content/find-mentor-39 .
X-ALT-DESC;FMTTYPE=text/html:<p>Learn how to&nbsp\;<strong>successfully market your product or service</strong>&nbsp\;and accomplish the following objectives:</p>\n\n<ul style="list-style-type:square">\n	<li>identify customers and their needs</li>\n	<li>determine pricing\, packaging\, and distribution for your product/service</li>\n	<li>create a promotional plan for your business</li>\n	<li>get your business online.</li>\n</ul>\n\n<p>Marketing is about making people aware of your business and getting them to buy your product or service. In this online workshop\, we will&nbsp\;<strong>help you make the right choices when pricing and ensure the product offerings and packaging are attractive to customers</strong>. We will help you choose the right distribution method to get your products or services in front of your customers.</p>\n\n<p>If you have ever thought about&nbsp\;<strong>starting your own business\,</strong>&nbsp\;we have a&nbsp\;<strong>FREE&nbsp\;four part series&nbsp\;in January</strong>&nbsp\;that will guide you through all of the key elements of&nbsp\;turning that dream into a reality. Also consider this series if you already have a business that could use a boost.</p>\n\n<p>This series is perfect for aspiring and emerging business owners.&nbsp\;The presenters have decades of business experience in the topics they teach. Our goal is to provide you with the background you need to get started on the path to success\, even during these COVID-challenged times.&nbsp\;Our&nbsp\;<strong>Essentials of Starting a Business Curriculum</strong>&nbsp\;is being offered Saturday mornings in January and includes:</p>\n\n<ul style="list-style-type:square">\n	<li>ESB1 - Creating a Quick Business Plan - Jan 8th</li>\n	<li>ESB2 - Successfully Starting Your Business - Jan 15th</li>\n	<li>ESB3 - Successfully Marketing Your Business - Jan 22nd</li>\n	<li>ESB4 - Managing Finances for a New Business - Jan 29th</li>\n</ul>\n\n<p><span style="color:rgb(28\, 28\, 29)">Please register for the other segments (ESB1\, ESB2\, and ESB4) by going to&nbsp\;</span><a href="https://midflorida.score.org/content/take-workshop-6" style="box-sizing: border-box\; color: rgb(4\, 73\, 119)\; text-decoration: none\; background-size: 100% 100%\; background-position: 100% 100%\;" target="_blank">https://midflorida.score.org/content/take-workshop-6</a>&nbsp\;<span style="color:rgb(28\, 28\, 29)">. We encourage you to take all of them but you can select specific topics if you prefer. Optionally\, you will also find it helpful to line up a free SCORE mentor to guide you as you go through the series. You can sign up for a mentor at&nbsp\;</span><a href="https://midflorida.score.org/content/find-mentor-39" style="box-sizing: border-box\; color: rgb(4\, 73\, 119)\; text-decoration: none\; background-size: 100% 100%\; background-position: 100% 100%\;" target="_blank">https://midflorida.score.org/content/find-mentor-39</a>&nbsp\;.</p>\n
LOCATION:Online
UID:e.3485.4214
SEQUENCE:3
DTSTAMP:20260419T205149Z
URL:https://www.mountdora.com/events/details/esb3-successfully-marketing-your-business-4214
END:VEVENT

END:VCALENDAR
