BEGIN:VCALENDAR
VERSION:2.0
PRODID:-//ChamberMaster//Event Calendar 2.0//EN
METHOD:PUBLISH
X-PUBLISHED-TTL:P3D
REFRESH-INTERVAL:P3D
CALSCALE:GREGORIAN
BEGIN:VEVENT
DTSTART:20260314T140000Z
DTEND:20260314T150000Z
X-MICROSOFT-CDO-ALLDAYEVENT:FALSE
SUMMARY:Enhance Your Leadership
DESCRIPTION:The strength of your leadership skills can greatly influence your business success especially if your business has employees or subcontractors. This webinar will help you think about how you lead and how you can improve your leadership:\n\n\n\nSelf-Awareness: Use assessments tools (like DISC) to understand leadership styles.\n\nSkill Development: Focus on areas like communication\, delegation\, and conflict resolution.\n\nFeedback Mechanisms: Foster a culture of open\, constructive feedback.\n\nMentorship and Coaching: Build relationships with peers and mentors for continuous improvement.
X-ALT-DESC;FMTTYPE=text/html:The strength of your&nbsp\;leadership skills&nbsp\;can greatly influence your business success especially if your business has employees or subcontractors. This webinar will help you think about how you lead and how you can improve your leadership:<br />\n<br />\nSelf-Awareness:&nbsp\;Use assessments tools (like DISC) to understand leadership styles.<br />\nSkill Development:&nbsp\;Focus on areas like communication\, delegation\, and conflict resolution.<br />\nFeedback Mechanisms:&nbsp\;Foster a culture of open\, constructive feedback.<br />\nMentorship and Coaching:&nbsp\;Build relationships with peers and mentors for continuous improvement.
LOCATION:Online Event
UID:e.3485.19955
SEQUENCE:3
DTSTAMP:20260421T211520Z
URL:https://www.mountdora.com/events/details/enhance-your-leadership-19955
END:VEVENT

END:VCALENDAR
