BEGIN:VCALENDAR
VERSION:2.0
PRODID:-//ChamberMaster//Event Calendar 2.0//EN
METHOD:PUBLISH
X-PUBLISHED-TTL:P3D
REFRESH-INTERVAL:P3D
CALSCALE:GREGORIAN
BEGIN:VEVENT
DTSTART:20250107T150000Z
DTEND:20250107T163000Z
X-MICROSOFT-CDO-ALLDAYEVENT:FALSE
SUMMARY:Embracing the Future of Video
DESCRIPTION:The learning objectives include understanding the basics of video creation\, optimizing video marketing strategies\, exploring innovative marketing trends\, leveraging video for business growth\, and gaining insight into the influence of AI on content creation and video marketing. This presentation will be interactive and aims to equip participants with practical knowledge and tools to navigate the future of video.
X-ALT-DESC;FMTTYPE=text/html:The learning objectives include understanding the basics of video creation\, optimizing video marketing strategies\, exploring innovative marketing trends\, leveraging video for business growth\, and gaining insight into the influence of AI on content creation and video marketing. This presentation will be interactive and aims to equip participants with practical knowledge and tools to navigate the future of video.
LOCATION:Online Event
UID:e.3485.13244
SEQUENCE:3
DTSTAMP:20260422T223148Z
URL:https://www.mountdora.com/events/details/embracing-the-future-of-video-01-07-2025-13244
END:VEVENT

END:VCALENDAR
