BEGIN:VCALENDAR
VERSION:2.0
PRODID:-//ChamberMaster//Event Calendar 2.0//EN
METHOD:PUBLISH
X-PUBLISHED-TTL:P3D
REFRESH-INTERVAL:P3D
CALSCALE:GREGORIAN
BEGIN:VEVENT
DTSTART:20241106T150000Z
DTEND:20241106T163000Z
X-MICROSOFT-CDO-ALLDAYEVENT:FALSE
SUMMARY:Email Marketing: The Biggest Bang for your Marketing Buck
DESCRIPTION:We understand that kick-starting your email marketing strategy can be a daunting task. It takes all of the things that small businesses and non-profits don't seem to have   time and money. Whether you are looking to get started with email marketing or you know there are some best practices you missed along the way\, we will get you off and running on the right foot!\n\n\n\nBy the end of this session\, you'll know how to create an effective email campaign that looks great on any device and gets your subscribers to take action.\n\n\n\nWe'll show you:\n\n\n\n?      How to drive action with the 7 essential elements of email design\n\n\n\n?      A simple\, persuasive formula for what to say in any email campaign\n\n\n\n?      How to save time on future emails with a reusable master template
X-ALT-DESC;FMTTYPE=text/html:We understand that kick-starting your email marketing strategy can be a daunting task. It takes all of the things that small businesses and non-profits don&#39\;t seem to have &ndash\; time and money. Whether you are looking to get started with email marketing or you know there are some best practices you missed along the way\, we will get you off and running on the right foot!<br />\n<br />\nBy the end of this session\, you&rsquo\;ll know how to create an effective email campaign that looks great on any device and gets your subscribers to take action.<br />\n<br />\nWe&rsquo\;ll show you:<br />\n<br />\n?&nbsp\;&nbsp\;&nbsp\;&nbsp\;&nbsp\;&nbsp\;How to drive action with the 7 essential elements of email design<br />\n<br />\n?&nbsp\;&nbsp\;&nbsp\;&nbsp\;&nbsp\;&nbsp\;A simple\, persuasive formula for what to say in any email campaign<br />\n<br />\n?&nbsp\;&nbsp\;&nbsp\;&nbsp\;&nbsp\;&nbsp\;How to save time on future emails with a reusable master template<br />\n<br />\n&nbsp\;
LOCATION:Online Event
UID:e.3485.12959
SEQUENCE:3
DTSTAMP:20260423T011938Z
URL:https://www.mountdora.com/events/details/email-marketing-the-biggest-bang-for-your-marketing-buck-12959
END:VEVENT

END:VCALENDAR
