BEGIN:VCALENDAR
VERSION:2.0
PRODID:-//ChamberMaster//Event Calendar 2.0//EN
METHOD:PUBLISH
X-PUBLISHED-TTL:P3D
REFRESH-INTERVAL:P3D
CALSCALE:GREGORIAN
BEGIN:VEVENT
DTSTART:20250625T220000Z
DTEND:20250625T233000Z
X-MICROSOFT-CDO-ALLDAYEVENT:FALSE
SUMMARY:Email Marketing Quick Start
DESCRIPTION:Learn the Essentials of Successful Email Marketing!\n\n\n\nEmail: you can't live without it\, and your business surviving without it is simply out of the question. If you truly understand the sheer power of email marketing\, then you know it's an absolute game-changer for your business.\n\n\n\nWith a 36:1 ROI\, it's the secret weapon that fuels business growth and propels you ahead of the competition. If you're feeling overwhelmed and running low on resources\, we've got your back!\n\n\n\nThis presentation will help you develop your email marketing strategy and grab the attention your business truly deserves. This is a golden opportunity to finally take that long-awaited email marketing leap and pave the path to success for your business!
X-ALT-DESC;FMTTYPE=text/html:Learn the&nbsp\;Essentials of Successful Email Marketing!<br />\n<br />\nEmail: you can&#39\;t live without it\, and your business surviving without it is simply out of the question. If you truly understand the sheer power of email marketing\, then you know it&#39\;s an absolute&nbsp\;game-changer for your business.<br />\n<br />\nWith a 36:1 ROI\, it&#39\;s the secret weapon&nbsp\;that fuels business growth and propels you ahead of the competition. If you&#39\;re feeling overwhelmed and running low on resources\, we&rsquo\;ve got your back!<br />\n<br />\nThis presentation will help you&nbsp\;develop your email marketing strategy&nbsp\;and grab the attention your business truly deserves. This is a golden opportunity to finally take that&nbsp\;long-awaited email marketing leap&nbsp\;and pave the path to success for your business!
LOCATION:Online Event
UID:e.3485.18305
SEQUENCE:3
DTSTAMP:20260422T132827Z
URL:https://www.mountdora.com/events/details/email-marketing-quick-start-06-25-2025-18305
END:VEVENT

END:VCALENDAR
