BEGIN:VCALENDAR
VERSION:2.0
PRODID:-//ChamberMaster//Event Calendar 2.0//EN
METHOD:PUBLISH
X-PUBLISHED-TTL:P3D
REFRESH-INTERVAL:P3D
CALSCALE:GREGORIAN
BEGIN:VEVENT
DTSTART:20251029T220000Z
DTEND:20251029T233000Z
X-MICROSOFT-CDO-ALLDAYEVENT:FALSE
SUMMARY:Email Marketing Best Practices
DESCRIPTION:First impressions matter   how are YOU doing with your emails?\n\n\n\nThis presentation will help you avoid common mistakes and maximize your emails for powerful impact!\n\n\n\nYou'll learn:\n\n\n\n  Branding beyond the logo   how placement\, pictures\, even colors can reinforce recognition & engagement\n\n\n\n  Readability   including fonts\, white space and single-column design\n\n\n\n  Images   including sizing\, placement\, links and more\n\n\n\n  Shareability   are you going social with your email? Easy tips to encourage more cross-platform engagement\n\n\n\nJoin us for this fast\, info-packed session packed with tips\, techniques and tools to help you navigate the do's and the don'ts for your own email marketing!\n\n\n\nTime to give your business the attention it deserves!
X-ALT-DESC;FMTTYPE=text/html:First impressions matter &ndash\; how are YOU doing with your emails?<br />\n<br />\nThis presentation will help you&nbsp\;avoid common mistakes&nbsp\;and maximize your emails for powerful impact!<br />\n<br />\nYou&rsquo\;ll learn:<br />\n<br />\n&bull\;&nbsp\;Branding beyond the logo&nbsp\;&ndash\; how placement\, pictures\, even colors can reinforce recognition &amp\; engagement<br />\n<br />\n&bull\;&nbsp\;Readability&nbsp\;&ndash\; including fonts\, white space and single-column design<br />\n<br />\n&bull\;&nbsp\;Images&nbsp\;&ndash\; including sizing\, placement\, links and more<br />\n<br />\n&bull\;&nbsp\;Shareability&nbsp\;&ndash\; are you going social with your email? Easy tips to encourage more cross-platform engagement<br />\n<br />\nJoin us for this fast\, info-packed session packed with&nbsp\;tips\, techniques and tools&nbsp\;to help you navigate the do&#39\;s and the don&rsquo\;ts for your own email marketing!<br />\n<br />\nTime to&nbsp\;give your business the attention it deserves!
LOCATION:Online Events
UID:e.3485.19655
SEQUENCE:3
DTSTAMP:20260422T074405Z
URL:https://www.mountdora.com/events/details/email-marketing-best-practices-10-29-2025-19655
END:VEVENT

END:VCALENDAR
