BEGIN:VCALENDAR
VERSION:2.0
PRODID:-//ChamberMaster//Event Calendar 2.0//EN
METHOD:PUBLISH
X-PUBLISHED-TTL:P3D
REFRESH-INTERVAL:P3D
CALSCALE:GREGORIAN
BEGIN:VEVENT
DTSTART:20250712T140000Z
DTEND:20250712T153000Z
X-MICROSOFT-CDO-ALLDAYEVENT:FALSE
SUMMARY:Elevator Pitch: Your Path to Success
DESCRIPTION:In business\, capturing the interest of a prospective buyer\, investor\, supplier\, or potential hire must be done quickly. Often\, you have only a few seconds to convey a message that will engage the listener and leave them wanting to know more. This workshop will help you create and perfect what is commonly called your "elevator pitch".\n\n\n\nRemember\, you do not get a second chance to make a good first impression.\n\n\n\nAt this event\, you will learn:\n\n\n\nWhy: Importance of a GREAT Elevator Pitch\n\nInsights: Good Vs. Great Communications\n\nTools: Templates For Creating A Great Elevator Pitch\n\nDraft: Building Your Elevator Pitch
X-ALT-DESC;FMTTYPE=text/html:In business\,&nbsp\;capturing the interest of a prospective buyer\, investor\, supplier\, or potential hire must be done quickly. Often\,&nbsp\;you have only a few seconds&nbsp\;to convey a message that will&nbsp\;engage&nbsp\;the listener&nbsp\;and&nbsp\;leave them wanting to know more.&nbsp\;This workshop will help you create and perfect what is commonly called your&nbsp\;&quot\;elevator pitch&quot\;.<br />\n<br />\nRemember\,&nbsp\;you do not get a second chance to make a good first impression.<br />\n<br />\nAt this event\, you will learn:<br />\n<br />\nWhy: Importance of a GREAT Elevator Pitch<br />\nInsights:&nbsp\;Good Vs. Great Communications<br />\nTools: Templates For Creating A Great Elevator Pitch<br />\nDraft:&nbsp\;Building Your Elevator Pitch
LOCATION:Live Event (ONLINE)
UID:e.3485.18365
SEQUENCE:3
DTSTAMP:20260422T120308Z
URL:https://www.mountdora.com/events/details/elevator-pitch-your-path-to-success-07-12-2025-18365
END:VEVENT

END:VCALENDAR
