BEGIN:VCALENDAR
VERSION:2.0
PRODID:-//ChamberMaster//Event Calendar 2.0//EN
METHOD:PUBLISH
X-PUBLISHED-TTL:P3D
REFRESH-INTERVAL:P3D
CALSCALE:GREGORIAN
BEGIN:VEVENT
DTSTART:20260313T020000Z
DTEND:20260313T020000Z
X-MICROSOFT-CDO-ALLDAYEVENT:FALSE
SUMMARY:Eat Mor Chikin at Tails & Tots -- Lil' Bit of Life Farm
DESCRIPTION:Event Description\n\nEat Mor Chikin at Tails & Tots is a toddler-focused farm experience at Lil' Bit of Life Farm designed for children ages 5 and under. Little farmers will rotate through interactive stations including milking a cow\, feeding a cow\, and walking a calf\, plus a special appearance by the Chick-fil-A cow. Each registered toddler receives a free Highland cow\, and families can add pony rides for an additional fee. Pre-order food options are available\, and tickets are encouraged in advance.
X-ALT-DESC;FMTTYPE=text/html:<h3 data-end="518" data-start="491"><span style="font-size:14px\;"><strong data-end="516" data-start="495">Event Description</strong></span></h3>\n\n<p data-end="1003" data-start="519"><span style="font-size:14px\;">Eat Mor Chikin at Tails &amp\; Tots is a toddler-focused farm experience at Lil&rsquo\; Bit of Life Farm designed for children ages 5 and under. Little farmers will rotate through interactive stations including milking a cow\, feeding a cow\, and walking a calf\, plus a special appearance by the Chick-fil-A cow. Each registered toddler receives a free Highland cow\, and families can add pony rides for an additional fee. Pre-order food options are available\, and tickets are encouraged in advance.</span></p>\n
LOCATION:Location Lil' Bit of Life Farm 2920 Robie Avenue Mount Dora\, FL 32757
UID:e.3485.21827
SEQUENCE:3
DTSTAMP:20260422T014851Z
URL:https://www.mountdora.com/events/details/eat-mor-chikin-at-tails-tots-lil-bit-of-life-farm-21827
END:VEVENT

END:VCALENDAR
