BEGIN:VCALENDAR
VERSION:2.0
PRODID:-//ChamberMaster//Event Calendar 2.0//EN
METHOD:PUBLISH
X-PUBLISHED-TTL:P3D
REFRESH-INTERVAL:P3D
CALSCALE:GREGORIAN
BEGIN:VEVENT
DTSTART:20250113T180000Z
DTEND:20250113T190000Z
X-MICROSOFT-CDO-ALLDAYEVENT:FALSE
SUMMARY:Easy Steps to Launch Content Creation in The New Year
DESCRIPTION:When it comes to launching business marketing plans in the new year\, it sometimes feels beyond overwhelming trying to figure out where to start. Buzzwords like "algorithm" and "SEO" and "AI" get thrown around by everyone selling anything remotely related to marketing.\n\n\n\nHaving an online presence can be even more vital when it comes to connecting with a wider audience than just word of mouth from current and past clients. But most businesses are not also storytellers\, camera operators\, editors\, and marketing managers. Your job is to be a professional in your field\, not every area of marketing and your field.\n\n\n\nSo how can you launch content creation without spending exorbitant amounts of money hiring professionals\, or drowning yourself with more tasks on your already overwhelming "To Do" list?\n\n\n\nThis webinar will discuss some simple steps to get started with content creation in the new year:\n\n\n\n- What type of equipment you need (hint: not a lot\, and you probably already have it)\n\n\n\n- Simple ways to film and post content\n\n\n\n- How to manage a posting schedule\n\n\n\n- How to plan checking and managing engagement\n\n\n\n- Ways to stay true to your story without becoming watered down by AI
X-ALT-DESC;FMTTYPE=text/html:When it comes to launching business marketing plans in the new year\, it sometimes feels beyond overwhelming trying to figure out where to start. Buzzwords like &quot\;algorithm&quot\; and &quot\;SEO&quot\; and &quot\;AI&quot\; get thrown around by everyone selling anything remotely related to marketing.<br />\n<br />\nHaving an online presence can be even more vital when it comes to connecting with a wider audience than just word of mouth from current and past clients. But most businesses are not also storytellers\, camera operators\, editors\, and marketing managers. Your job is to be a professional in your field\, not every area of marketing and your field.<br />\n<br />\nSo how can you launch content creation without spending exorbitant amounts of money hiring professionals\, or drowning yourself with more tasks on your already overwhelming &quot\;To Do&quot\; list?<br />\n<br />\nThis webinar will discuss some simple steps to get started with content creation in the new year:<br />\n<br />\n- What type of equipment you need (hint: not a lot\, and you probably already have it)<br />\n<br />\n- Simple ways to film and post content<br />\n<br />\n- How to manage a posting schedule<br />\n<br />\n- How to plan checking and managing engagement<br />\n<br />\n- Ways to stay true to your story without becoming watered down by AI
LOCATION:Online Event
UID:e.3485.13249
SEQUENCE:3
DTSTAMP:20260422T222726Z
URL:https://www.mountdora.com/events/details/easy-steps-to-launch-content-creation-in-the-new-year-13249
END:VEVENT

END:VCALENDAR
