BEGIN:VCALENDAR
VERSION:2.0
PRODID:-//ChamberMaster//Event Calendar 2.0//EN
METHOD:PUBLISH
X-PUBLISHED-TTL:P3D
REFRESH-INTERVAL:P3D
CALSCALE:GREGORIAN
BEGIN:VEVENT
DTSTART:20250825T160000Z
DTEND:20250825T173000Z
X-MICROSOFT-CDO-ALLDAYEVENT:FALSE
SUMMARY:Dynamic Duo: Scale and Secure Business Funding
DESCRIPTION:Business credit and estate planning are both important for scaling and securing business funding\, though they serve different but complementary purposes. Strong business credit demonstrates a company's ability to manage debt and financial obligations independently of the owner's personal credit\, which is crucial for accessing larger lines of credit\, loans\, and vendor relationships as the business grows. It also helps establish trust with lenders and investors. Estate planning\, while often overlooked\, ensures the long-term continuity and stability of the business by outlining succession plans and protecting assets. This level of foresight reassures funders that the business has a clear plan for leadership transitions and asset management\, which is particularly important for scaling operations and attracting long-term investment. Together\, business credit and estate planning reflect financial maturity and strategic foresight\, both of which are critical for sustainable growth and funding success.
X-ALT-DESC;FMTTYPE=text/html:Business credit and estate planning are both important for scaling and securing business funding\, though they serve different but&nbsp\;complementary purposes. Strong business credit demonstrates a company&rsquo\;s ability to manage debt and financial obligations independently of&nbsp\;the owner&#39\;s personal credit\, which is crucial for accessing larger lines of credit\, loans\, and vendor relationships as the business grows. It also&nbsp\;helps establish trust with lenders and investors. Estate planning\, while often overlooked\, ensures the long-term continuity and stability of the&nbsp\;business by outlining succession plans and protecting assets. This level of foresight reassures funders that the business has a clear plan for&nbsp\;leadership transitions and asset management\, which is particularly important for scaling operations and attracting long-term investment.&nbsp\;Together\, business credit and estate planning reflect financial maturity and strategic foresight\, both of which are critical for sustainable growth&nbsp\;and funding success.
LOCATION:Online Event
UID:e.3485.19453
SEQUENCE:3
DTSTAMP:20260422T105411Z
URL:https://www.mountdora.com/events/details/dynamic-duo-scale-and-secure-business-funding-19453
END:VEVENT

END:VCALENDAR
