BEGIN:VCALENDAR
VERSION:2.0
PRODID:-//ChamberMaster//Event Calendar 2.0//EN
METHOD:PUBLISH
X-PUBLISHED-TTL:P3D
REFRESH-INTERVAL:P3D
CALSCALE:GREGORIAN
BEGIN:VEVENT
DTSTART:20250804T160000Z
DTEND:20250804T173000Z
X-MICROSOFT-CDO-ALLDAYEVENT:FALSE
SUMMARY:Dynamic Duo: Pre-Requisites to Secure Business Funding
DESCRIPTION:Personal Credit and Proper Business Structure are essential for securing business funding\, particularly for startups and small businesses. Lenders and investors often assess personal credit scores and reports to gauge the financial responsibility of the business owner\, especially when the business lacks a strong business credit profile. A good to excellent personal credit score can significantly improve the chances of business loans\, business lines of credit\, and business unsecured credit card approval and favorable terms. Equally important\, having a formal business structure that's set up properly conducive to lending standards adds legitimacy\, separates personal and business liabilities\, and opens doors to more funding options. Together\, strong personal credit and a well-established business structure demonstrate professionalism and financial readiness\, making it easier to access capital and grow the business.
X-ALT-DESC;FMTTYPE=text/html:Personal Credit and Proper Business Structure are essential for securing business funding\, particularly for startups and small businesses.&nbsp\;Lenders and investors often assess personal credit scores and reports to gauge the financial responsibility of the business owner\, especially&nbsp\;when the business lacks a strong business credit profile. A good to excellent personal credit score can significantly improve the chances of business loans\, business lines of credit\, and business unsecured credit card&nbsp\;approval and favorable terms. Equally important\, having a formal business&nbsp\;structure that&rsquo\;s set up properly conducive to lending standards&mdash\;adds legitimacy\, separates personal and business liabilities\, and opens doors to&nbsp\;more funding options. Together\, strong personal credit and a well-established business structure demonstrate professionalism and&nbsp\;financial readiness\, making it easier to access capital and grow the business.<br />\n<br />\n&nbsp\;
LOCATION:Online Event
UID:e.3485.19430
SEQUENCE:3
DTSTAMP:20260422T103951Z
URL:https://www.mountdora.com/events/details/dynamic-duo-pre-requisites-to-secure-business-funding-19430
END:VEVENT

END:VCALENDAR
