BEGIN:VCALENDAR
VERSION:2.0
PRODID:-//ChamberMaster//Event Calendar 2.0//EN
METHOD:PUBLISH
X-PUBLISHED-TTL:P3D
REFRESH-INTERVAL:P3D
CALSCALE:GREGORIAN
BEGIN:VEVENT
DTSTART:20241212T233000Z
DTEND:20241213T003000Z
X-MICROSOFT-CDO-ALLDAYEVENT:FALSE
SUMMARY:Dreamcatcher Workshop at Dark Void
DESCRIPTION:Join local artist Rebecca Polis and make your own dreamcatcher while she walks you through the meaning and lore behind dreamcatchers.
X-ALT-DESC;FMTTYPE=text/html:Join local artist Rebecca Polis and make your own dreamcatcher while she walks you through the meaning and lore behind dreamcatchers. &nbsp\;
LOCATION:348 N Alexander St
UID:e.3485.13390
SEQUENCE:3
DTSTAMP:20260423T023836Z
URL:https://www.mountdora.com/events/details/dreamcatcher-workshop-at-dark-void-13390
END:VEVENT

END:VCALENDAR
