BEGIN:VCALENDAR
VERSION:2.0
PRODID:-//ChamberMaster//Event Calendar 2.0//EN
METHOD:PUBLISH
X-PUBLISHED-TTL:P3D
REFRESH-INTERVAL:P3D
CALSCALE:GREGORIAN
BEGIN:VEVENT
DTSTART:20231212T223000Z
DTEND:20231213T003000Z
X-MICROSOFT-CDO-ALLDAYEVENT:FALSE
SUMMARY:Developing a Three Year Financial Forecast
DESCRIPTION:If borrowing money\, lenders will demand it. This workshop will show you how to estimate monthly sales and expenses using a free SCORE forecasting template.\n\n\n\nThis workshop will cover the following topics:\n\n\n\n  How to estimate monthly sales \n\n\n\n  What expense categories need to be in your forecast and how to estimate them.\n\n\n\n  How to use the free SCORE template to automate your forecast.\n\n\n\n  The key metrics to look for in your forecast \n\n\n\n  How to use your forecast after you open your business.\n\n\n\nOur presenter is Craig Linsky.\n\n\n\nCraig is a SCORE mentor and Chairman of the Client Education Committee at SCORE in Jacksonville. Craig worked in the financial services industry for nearly thirty years. For the past ten years\, he has designed and taught marketing and other business topics both domestically through SCORE and internationally through the Financial Services Volunteer Corp.
X-ALT-DESC;FMTTYPE=text/html:If borrowing money\, lenders will demand it. This workshop will show you how to estimate monthly sales and expenses&nbsp\;using a free SCORE forecasting template.<br />\n<br />\nThis workshop will cover the following topics:<br />\n<br />\n&bull\; How to estimate monthly sales&nbsp\;<br />\n<br />\n&bull\; What expense categories need to be in your forecast and how to estimate them.<br />\n<br />\n&bull\; How to use the free SCORE template to automate your forecast.<br />\n<br />\n&bull\; The key metrics to look for in your forecast&nbsp\;<br />\n<br />\n&bull\; How to use your forecast after you open your business.<br />\n<br />\nOur presenter is Craig Linsky.<br />\n<br />\nCraig&nbsp\;is a SCORE mentor and Chairman of the Client Education Committee at SCORE in Jacksonville.&nbsp\;Craig worked in the financial services industry for nearly thirty years. For the past ten years\, he has designed and taught marketing and other business topics both domestically through SCORE and internationally through the Financial Services Volunteer Corp.
LOCATION:Online
UID:e.3485.6829
SEQUENCE:3
DTSTAMP:20260423T160547Z
URL:https://www.mountdora.com/events/details/developing-a-three-year-financial-forecast-12-12-2023-6829
END:VEVENT

END:VCALENDAR
