BEGIN:VCALENDAR
VERSION:2.0
PRODID:-//ChamberMaster//Event Calendar 2.0//EN
METHOD:PUBLISH
X-PUBLISHED-TTL:P3D
REFRESH-INTERVAL:P3D
CALSCALE:GREGORIAN
BEGIN:VEVENT
DTSTART:20250903T213000Z
DTEND:20250904T003000Z
X-MICROSOFT-CDO-ALLDAYEVENT:FALSE
SUMMARY:Determining Product Profit Potential and Target Market
DESCRIPTION:This workshop will cover methods of calculating the market potential and estimating the amount of sales and profit you can derive from it using databases available for free through the Jacksonville Public Library. This will include: \n\n\n\n  How to define consumer or business target markets.\n\n\n\n  How to include psychographics in the definition.\n\n\n\n  Calculating market potential sales and profitability.
X-ALT-DESC;FMTTYPE=text/html:This workshop will cover methods of calculating the market potential and estimating the amount of sales and profit you can derive from it using databases available for free through the Jacksonville Public Library. This will include:&nbsp\;<br />\n<br />\n&bull\; How to define consumer or business target markets.<br />\n<br />\n&bull\; How to include psychographics in the definition.<br />\n<br />\n&bull\; Calculating market potential sales and profitability.
LOCATION:Online Event
UID:e.3485.19531
SEQUENCE:3
DTSTAMP:20260422T110004Z
URL:https://www.mountdora.com/events/details/determining-product-profit-potential-and-target-market-09-03-2025-19531
END:VEVENT

END:VCALENDAR
