BEGIN:VCALENDAR
VERSION:2.0
PRODID:-//ChamberMaster//Event Calendar 2.0//EN
METHOD:PUBLISH
X-PUBLISHED-TTL:P3D
REFRESH-INTERVAL:P3D
CALSCALE:GREGORIAN
BEGIN:VEVENT
DTSTART:20241216T150000Z
DTEND:20241216T160000Z
X-MICROSOFT-CDO-ALLDAYEVENT:FALSE
SUMMARY:Decision Catalysts:6 sales & marketing factors that drive customers to say ‘Yes’
DESCRIPTION:In the intricate dance of sales\, marketing\, and business\, understanding what propels a customer or investor towards a 'yes' or steers them to a 'no' is invaluable. This webinar is an in-depth exploration of these driving forces for entrepreneurs and marketers\, illuminated by the patented Conversion Sequence heuristic.\n\n\n\nThis webinar will delve into the essence of customer (really\, all human) decision-making\, unearthing the complexities and nuances that define the pathway to conversion. Our focus will pivot around the Conversion Sequence heuristic\, a methodically developed tool that encapsulates over two decades of research and experimentation in understanding customer psychology and online marketing effectiveness.\n\n\n\nEntrepreneurs and marketers will gain insight into each of the six critical factors identified as instrumental in influencing customer decisions. More than just identifying these factors\, we will explore how they interact in complex ways to either propel potential customers towards a favorable decision or hinder their pathway to conversion.\n\n\n\nThe session is designed not just to impart knowledge but to equip participants with the practical tools and strategic foresight needed to apply this understanding to their sales and marketing efforts. By integrating these insights\, attendees will be better positioned to craft strategies that resonate with their target audience\, enhance customer engagement\, and significantly improve conversion rates.\n\n\n\nWhether you are a seasoned marketing professional looking to refine your approach or a newcomer eager to lay a solid foundation for your marketing initiatives\, this webinar promises to be a light on your path. Join us to transform your sales and marketing strategies into a robust mechanism that consistently drives customers to say 'yes.'
X-ALT-DESC;FMTTYPE=text/html:In the intricate dance of sales\, marketing\, and business\, understanding what propels a customer or investor towards a &#39\;yes&#39\; or steers them to a &#39\;no&#39\; is invaluable. This webinar is an in-depth exploration of these driving forces for entrepreneurs and marketers\, illuminated by the patented Conversion Sequence heuristic.<br />\n<br />\nThis webinar will delve into the essence of customer (really\, all human) decision-making\, unearthing the complexities and nuances that define the pathway to conversion. Our focus will pivot around the Conversion Sequence heuristic\, a methodically developed tool that encapsulates over two decades of research and experimentation in understanding customer psychology and online marketing effectiveness.<br />\n<br />\nEntrepreneurs and marketers will gain insight into each of the six critical factors identified as instrumental in influencing customer decisions. More than just identifying these factors\, we will explore how they interact in complex ways to either propel potential customers towards a favorable decision or hinder their pathway to conversion.<br />\n<br />\nThe session is designed not just to impart knowledge but to equip participants with the practical tools and strategic foresight needed to apply this understanding to their sales and marketing efforts. By integrating these insights\, attendees will be better positioned to craft strategies that resonate with their target audience\, enhance customer engagement\, and significantly improve conversion rates.<br />\n<br />\nWhether you are a seasoned marketing professional looking to refine your approach or a newcomer eager to lay a solid foundation for your marketing initiatives\, this webinar promises to be a light on your path. Join us to transform your sales and marketing strategies into a robust mechanism that consistently drives customers to say &#39\;yes.&#39\;
LOCATION:Online Event
UID:e.3485.13217
SEQUENCE:3
DTSTAMP:20260422T223455Z
URL:https://www.mountdora.com/events/details/decision-catalysts-6-sales-marketing-factors-that-drive-customers-to-say-yes-13217
END:VEVENT

END:VCALENDAR
