BEGIN:VCALENDAR
VERSION:2.0
PRODID:-//ChamberMaster//Event Calendar 2.0//EN
METHOD:PUBLISH
X-PUBLISHED-TTL:P3D
REFRESH-INTERVAL:P3D
CALSCALE:GREGORIAN
BEGIN:VEVENT
DTSTART:20251020T220000Z
DTEND:20251020T230000Z
X-MICROSOFT-CDO-ALLDAYEVENT:FALSE
SUMMARY:Data Analytics for Employers: Insights That Improve Workforce Outcomes.
DESCRIPTION:How can employers leverage data analytics to gain actionable insights into their workforce? By transforming HR and performance data into strategy\, organizations can strengthen hiring\, retention\, and productivity. This session demonstrates how data-driven decisions directly improve workforce outcomes.
X-ALT-DESC;FMTTYPE=text/html:How&nbsp\;can&nbsp\;employers&nbsp\;leverage data analytics to gain actionable insights into their workforce? By transforming HR and performance data into strategy\, organizations can strengthen hiring\, retention\, and productivity. This session demonstrates how&nbsp\;data-driven decisions directly improve workforce outcomes.
LOCATION:Online Event
UID:e.3485.19640
SEQUENCE:3
DTSTAMP:20260422T073735Z
URL:https://www.mountdora.com/events/details/data-analytics-for-employers-insights-that-improve-workforce-outcomes-19640
END:VEVENT

END:VCALENDAR
