BEGIN:VCALENDAR
VERSION:2.0
PRODID:-//ChamberMaster//Event Calendar 2.0//EN
METHOD:PUBLISH
X-PUBLISHED-TTL:P3D
REFRESH-INTERVAL:P3D
CALSCALE:GREGORIAN
BEGIN:VEVENT
DTSTART:20241120T170000Z
DTEND:20241120T180000Z
X-MICROSOFT-CDO-ALLDAYEVENT:FALSE
SUMMARY:Cultivating Authentic Connections for Sales Growth
DESCRIPTION:This webinar could be subtitled: "A Salesperson's Dive into the Impact of Video and Social Media Marketing." It presents how businesses can tap into the power of video and social media platforms to develop authentic relationships with their buyers\, an essential factor driving sales growth in the today's marketplace.\n\n\n\nOur presenter\, Harry Spaight\, is a SCORE volunteer with extensive experience in sales and sales training. His "Sales Made Easy" podcasts are available on Apple by clicking here or directly on Spotify by clicking here.
X-ALT-DESC;FMTTYPE=text/html:This webinar could be subtitled: &quot\;A Salesperson&#39\;s Dive into the&nbsp\;Impact of Video and Social Media Marketing.&quot\; It presents how businesses can tap into the power of video and social media platforms to&nbsp\;develop authentic relationships with their buyers\, an essential factor driving sales growth in the today&#39\;s marketplace.<br />\n<br />\nOur presenter\, Harry Spaight\, is a SCORE volunteer with extensive experience in sales and sales training. His &quot\;Sales Made Easy&quot\; podcasts are available on Apple by clicking&nbsp\;here&nbsp\;or directly on Spotify by clicking&nbsp\;here.
LOCATION:Online Event
UID:e.3485.12965
SEQUENCE:3
DTSTAMP:20260423T011357Z
URL:https://www.mountdora.com/events/details/cultivating-authentic-connections-for-sales-growth-12965
END:VEVENT

END:VCALENDAR
