BEGIN:VCALENDAR
VERSION:2.0
PRODID:-//ChamberMaster//Event Calendar 2.0//EN
METHOD:PUBLISH
X-PUBLISHED-TTL:P3D
REFRESH-INTERVAL:P3D
CALSCALE:GREGORIAN
BEGIN:VEVENT
DTSTART:20241111T230000Z
DTEND:20241112T010000Z
X-MICROSOFT-CDO-ALLDAYEVENT:FALSE
SUMMARY:Cuando los Bancos Dicen No
DESCRIPTION:Cuando los bancos dicen no" proporciona una visi n general de las fuentes de financiaci n alternativas a las que los propietarios de peque as empresas pueden recurrir cuando los bancos dicen que no (lo que hacen en aproximadamente el 80% de los casos).\n\n\n\n \n\n\n\nNuestro presentador\, Boyd Karren\, es un emprendedor en serie\, que ha iniciado varios negocios\, comprado algunos y vendido otros.
X-ALT-DESC;FMTTYPE=text/html:Cuando los bancos dicen no&quot\; proporciona una visi&oacute\;n general de las fuentes de financiaci&oacute\;n alternativas a las que los propietarios de peque&ntilde\;as empresas pueden recurrir cuando los bancos dicen que no (lo que hacen en aproximadamente el 80% de los casos).<br />\n<br />\n&nbsp\;<br />\n<br />\nNuestro presentador\, Boyd Karren\, es un emprendedor en serie\, que ha iniciado varios negocios\, comprado algunos y vendido otros.
LOCATION:Online Event
UID:e.3485.12961
SEQUENCE:3
DTSTAMP:20260423T011429Z
URL:https://www.mountdora.com/events/details/cuando-los-bancos-dicen-no-11-11-2024-12961
END:VEVENT

END:VCALENDAR
