BEGIN:VCALENDAR
VERSION:2.0
PRODID:-//ChamberMaster//Event Calendar 2.0//EN
METHOD:PUBLISH
X-PUBLISHED-TTL:P3D
REFRESH-INTERVAL:P3D
CALSCALE:GREGORIAN
BEGIN:VEVENT
DTSTART:20250918T220000Z
DTEND:20250918T230000Z
X-MICROSOFT-CDO-ALLDAYEVENT:FALSE
SUMMARY:Cuando los Bancos Dicen No
DESCRIPTION:Cuando los bancos dicen no" proporciona una visi n general de las fuentes de financiaci n alternativas a las que los propietarios de peque as empresas pueden recurrir cuando los bancos dicen que no (lo que hacen en aproximadamente el 80% de los casos).\n\n\n\n \n\n\n\nNuestro presentador\, Boyd Karren\, es un emprendedor en serie\, que ha iniciado varios negocios\, comprado algunos y vendido otros.\n\n\n\n \n\n\n\nComenz  a ofrecer pr stamos comerciales despu s de encontrar poca ayuda de los bancos cuando estaba tratando de comprar un peque o negocio.\n\n\n\n \n\n\n\n l cree que las peque as empresas son el coraz n y el alma de nuestro pa s y encuentra una gran alegr a en ayudar a los empresarios a encontrar el dinero que necesitan para iniciar\, comprar\, apoyar o hacer crecer un negocio.\n\n\n\n \n\n\n\nBoyd vive y tiene una oficina en Melbourne\, Florida.\n\n\n\n \n\n\n\nEl lema de su empresa es: " El banco dijo que no?  Llama a Otro!
X-ALT-DESC;FMTTYPE=text/html:Cuando los bancos dicen no&quot\; proporciona una visi&oacute\;n general de las fuentes de financiaci&oacute\;n alternativas a las que los propietarios de peque&ntilde\;as empresas pueden recurrir cuando los bancos dicen que no (lo que hacen en aproximadamente el 80% de los casos).<br />\n<br />\n&nbsp\;<br />\n<br />\nNuestro presentador\, Boyd Karren\, es un emprendedor en serie\, que ha iniciado varios negocios\, comprado algunos y vendido otros.<br />\n<br />\n&nbsp\;<br />\n<br />\nComenz&oacute\; a ofrecer pr&eacute\;stamos comerciales despu&eacute\;s de encontrar poca ayuda de los bancos cuando estaba tratando de comprar un peque&ntilde\;o negocio.<br />\n<br />\n&nbsp\;<br />\n<br />\n&Eacute\;l cree que las peque&ntilde\;as empresas son el coraz&oacute\;n y el alma de nuestro pa&iacute\;s y encuentra una gran alegr&iacute\;a en ayudar a los empresarios a encontrar el dinero que necesitan para iniciar\, comprar\, apoyar o hacer crecer un negocio.<br />\n<br />\n&nbsp\;<br />\n<br />\nBoyd vive y tiene una oficina en Melbourne\, Florida.<br />\n<br />\n&nbsp\;<br />\n<br />\nEl lema de su empresa es: &quot\;&iquest\;El banco dijo que no? &iexcl\;Llama a Otro!
LOCATION:Online Event
UID:e.3485.19552
SEQUENCE:3
DTSTAMP:20260422T103053Z
URL:https://www.mountdora.com/events/details/cuando-los-bancos-dicen-no-09-18-2025-19552
END:VEVENT

END:VCALENDAR
