BEGIN:VCALENDAR
VERSION:2.0
PRODID:-//ChamberMaster//Event Calendar 2.0//EN
METHOD:PUBLISH
X-PUBLISHED-TTL:P3D
REFRESH-INTERVAL:P3D
CALSCALE:GREGORIAN
BEGIN:VEVENT
DTSTART:20260312T140000Z
DTEND:20260312T153000Z
X-MICROSOFT-CDO-ALLDAYEVENT:FALSE
SUMMARY:Create\, Publish\, Profit: Building a Website for Your Business
DESCRIPTION:Creating a website doesn't have to be complicated. With the right approach\, you can design a site that highlights your brand\, looks professional\, and drives sales. Even if you use a template\, thoughtful and engaging content makes all the difference.\n\n\n\n \n\nIn this webinar\, we'll cover the essentials you need to launch your site with confidence and focus on the elements that matter most.\n\n\n\n \n\n\n\nYou'll learn:\n\n\n\nThe 4 questions your homepage should answer before it goes live\n\nTips for writing a strong and authentic 'About' page\n\nHow to make it simple for customers to reach you\n\nBest practices for choosing and using images effectively\n\nStrategies for building a high-converting landing page
X-ALT-DESC;FMTTYPE=text/html:Creating a website doesn&rsquo\;t have to be complicated. With the right approach\, you can design a site that highlights your brand\, looks professional\, and drives sales. Even if you use a template\, thoughtful and engaging content makes all the difference.<br />\n<br />\n&nbsp\;<br />\nIn this webinar\, we&rsquo\;ll cover the essentials you need to launch your site with confidence and focus on the elements that matter most.<br />\n<br />\n&nbsp\;<br />\n<br />\nYou&rsquo\;ll learn:<br />\n<br />\nThe 4 questions your homepage should answer before it goes live<br />\nTips for writing a strong and authentic &lsquo\;About&rsquo\; page<br />\nHow to make it simple for customers to reach you<br />\nBest practices for choosing and using images effectively<br />\nStrategies for building a high-converting landing page
LOCATION:Online Event
UID:e.3485.19953
SEQUENCE:3
DTSTAMP:20260421T225439Z
URL:https://www.mountdora.com/events/details/create-publish-profit-building-a-website-for-your-business-03-12-2026-19953
END:VEVENT

END:VCALENDAR
