BEGIN:VCALENDAR
VERSION:2.0
PRODID:-//ChamberMaster//Event Calendar 2.0//EN
METHOD:PUBLISH
X-PUBLISHED-TTL:P3D
REFRESH-INTERVAL:P3D
CALSCALE:GREGORIAN
BEGIN:VEVENT
DTSTART:20241204T230000Z
DTEND:20241205T000000Z
X-MICROSOFT-CDO-ALLDAYEVENT:FALSE
SUMMARY:Crafting Compelling Content in 2025: Elevate Your Brand to New Heights
DESCRIPTION:Join us for an engaging webinar\, "Crafting Compelling Content in 2025\," where we'll explore innovative strategies to enhance your brand's presence and connect with your audience effectively. Learn about the latest trends in researching popular topics\, content creation\, and how to leverage emerging technologies to elevate your brand to new heights. \n\n\n\nIf you're a busy entrepreneur\, this session will equip you with the tools and insights necessary to stand out in the competitive landscape of 2025\, without spending hours editing and posting your content. Don't miss this opportunity to transform your content strategy and drive meaningful engagement!
X-ALT-DESC;FMTTYPE=text/html:Join us for an engaging webinar\, &quot\;Crafting Compelling Content in 2025\,&quot\; where we&rsquo\;ll explore innovative strategies to enhance your brand&#39\;s presence and connect with your audience effectively. Learn about the latest trends in researching popular topics\, content creation\, and how to leverage emerging technologies to elevate your brand to new heights.&nbsp\;<br />\n<br />\nIf you&#39\;re a busy&nbsp\;entrepreneur\, this session will equip you with the tools and insights necessary to stand out in the competitive landscape of 2025\,&nbsp\;without spending hours editing and posting your content. Don&rsquo\;t miss this opportunity to transform your content strategy and drive meaningful engagement!
LOCATION:Online Event
UID:e.3485.13206
SEQUENCE:3
DTSTAMP:20260422T223148Z
URL:https://www.mountdora.com/events/details/crafting-compelling-content-in-2025-elevate-your-brand-to-new-heights-13206
END:VEVENT

END:VCALENDAR
