BEGIN:VCALENDAR
VERSION:2.0
PRODID:-//ChamberMaster//Event Calendar 2.0//EN
METHOD:PUBLISH
X-PUBLISHED-TTL:P3D
REFRESH-INTERVAL:P3D
CALSCALE:GREGORIAN
BEGIN:VEVENT
DTSTART:20260324T220000Z
DTEND:20260325T010000Z
X-MICROSOFT-CDO-ALLDAYEVENT:FALSE
SUMMARY:Craft a Winning Business Plan That Gets Results
DESCRIPTION:Turn your business concept into an investor-ready masterpiece! Using our proven template system\, you'll create a compelling business plan that opens doors to funding and partnerships. This intensive workshop walks you through each critical section\, helping you articulate your vision\, validate your market opportunity\, and present your business case with confidence. Come prepared with your research and marketing insights leave with a professional plan that\n\n\n\ncommands attention.
X-ALT-DESC;FMTTYPE=text/html:Turn your business concept into an investor-ready masterpiece!&nbsp\;Using our proven template system\, you&#39\;ll create a compelling business plan that opens doors to funding and partnerships. This intensive workshop walks you through each critical section\, helping you articulate your vision\, validate your market opportunity\, and present your business case with confidence. Come prepared with your research and marketing insights&mdash\;leave with a professional plan that<br />\n<br />\ncommands attention.
LOCATION:Online Event
UID:e.3485.19963
SEQUENCE:3
DTSTAMP:20260421T225146Z
URL:https://www.mountdora.com/events/details/craft-a-winning-business-plan-that-gets-results-03-24-2026-19963
END:VEVENT

END:VCALENDAR
