BEGIN:VCALENDAR
VERSION:2.0
PRODID:-//ChamberMaster//Event Calendar 2.0//EN
METHOD:PUBLISH
X-PUBLISHED-TTL:P3D
REFRESH-INTERVAL:P3D
CALSCALE:GREGORIAN
BEGIN:VEVENT
DTSTART:20241204T150000Z
DTEND:20241204T163000Z
X-MICROSOFT-CDO-ALLDAYEVENT:FALSE
SUMMARY:Content Marketing
DESCRIPTION:If "location! location!" is the key to retail success\, "content! content!" is the key to email marketing.\n\n\n\nCompelling subject lines open the door and the content   both visual and written   compels your audience to take action.\n\n\n\nWe'll help you elevate your email marketing by creating subject lines that grab attention and eye-popping images and video with a clear call to action. We'll show you time-saving tips for creating content that attracts\, retains\, and converts customers!
X-ALT-DESC;FMTTYPE=text/html:If &ldquo\;location! location!&rdquo\; is the key to retail success\, &ldquo\;content! content!&rdquo\; is the key to email marketing.<br />\n<br />\nCompelling subject lines open the door and the content &ndash\; both visual and written &ndash\; compels your audience to take action.<br />\n<br />\nWe&rsquo\;ll help you elevate your email marketing by creating subject lines that grab attention and eye-popping images and video with a clear call to action. We&rsquo\;ll show you time-saving tips for creating content that attracts\, retains\, and converts customers!
LOCATION:Online Event
UID:e.3485.13204
SEQUENCE:3
DTSTAMP:20260422T234543Z
URL:https://www.mountdora.com/events/details/content-marketing-13204
END:VEVENT

END:VCALENDAR
