BEGIN:VCALENDAR
VERSION:2.0
PRODID:-//ChamberMaster//Event Calendar 2.0//EN
METHOD:PUBLISH
X-PUBLISHED-TTL:P3D
REFRESH-INTERVAL:P3D
CALSCALE:GREGORIAN
BEGIN:VEVENT
DTSTART:20250809T143000Z
DTEND:20250809T200000Z
X-MICROSOFT-CDO-ALLDAYEVENT:FALSE
SUMMARY:CommuniTEA TEAm-Up Pop-Up
DESCRIPTION:Join us for another CommuniTEA TEAm-Up event! \n\n\n\nWe are TEAming up again with local bakery Melina's Artisan Loaf!\n\n\n\nYou don't want to miss this one! Last time it was sold out within 2 hours! \n\n\n\nSampling and selling fresh-baked goods and scones featuring ingredients and teas by TSTE.\n\n\n\nTea of the Day at the Tea Bar will be Mystic Dragon (green).\n\n\n\nEvent is from 10:30-4 (or until sold out)
X-ALT-DESC;FMTTYPE=text/html:<p>Join us for another CommuniTEA TEAm-Up event!&nbsp\;<br />\n<br />\nWe are TEAming up again with local bakery Melina&rsquo\;s Artisan Loaf!<br />\n<br />\nYou don&#39\;t want to miss this one! Last time it was sold out within 2 hours!&nbsp\;</p>\n\n<p><br />\nSampling and selling fresh-baked goods and scones featuring ingredients and teas by TSTE.<br />\n<br />\nTea of the Day at the Tea Bar will be Mystic Dragon (green).<br />\n<br />\nEvent is from 10:30-4 (or until sold out)</p>\n
LOCATION:
UID:e.3485.19581
SEQUENCE:3
DTSTAMP:20260422T145805Z
URL:https://www.mountdora.com/events/details/communitea-team-up-pop-up-19581
END:VEVENT

END:VCALENDAR
