BEGIN:VCALENDAR
VERSION:2.0
PRODID:-//ChamberMaster//Event Calendar 2.0//EN
METHOD:PUBLISH
X-PUBLISHED-TTL:P3D
REFRESH-INTERVAL:P3D
CALSCALE:GREGORIAN
BEGIN:VEVENT
DTSTART:20251021T130000Z
DTEND:20251021T143000Z
X-MICROSOFT-CDO-ALLDAYEVENT:FALSE
SUMMARY:Common Pitfalls of Hiring
DESCRIPTION:Learn how to be known as The Best Employer in town!\n\n\n\n\n\nWhether it's reputation management\, overly cumbersome application processes\, poorly written job descriptions or treating an interview as some type of interrogation there are MANY ways that employers can lose the interest of the most qualified and most professional candidates. \n\n\n\nDuring our time together\, we will outline the MANY reasons that candidates have DECLINED JOB OFFERS because of something that happened before\, during or after the Hiring Process. The most important decisions made in business are around WHO is hired or WHAT job.
X-ALT-DESC;FMTTYPE=text/html:Learn how to be known as The Best Employer in town!<br />\n<br />\n<br />\nWhether it&#39\;s reputation management\, overly cumbersome&nbsp\;application processes\, poorly written job descriptions or treating an interview as some type of interrogation&nbsp\;there are MANY ways that employers can lose the interest of the most qualified and most professional candidates.&nbsp\;<br />\n<br />\nDuring our time&nbsp\;together\,&nbsp\;we&nbsp\;will outline the MANY reasons that candidates have DECLINED JOB OFFERS because of something that happened before\, during or after the Hiring Process. The most important decisions made in business are around WHO is hired or WHAT job.&nbsp\;
LOCATION:Online Event
UID:e.3485.19646
SEQUENCE:3
DTSTAMP:20260422T074549Z
URL:https://www.mountdora.com/events/details/common-pitfalls-of-hiring-10-21-2025-19646
END:VEVENT

END:VCALENDAR
