BEGIN:VCALENDAR
VERSION:2.0
PRODID:-//ChamberMaster//Event Calendar 2.0//EN
METHOD:PUBLISH
X-PUBLISHED-TTL:P3D
REFRESH-INTERVAL:P3D
CALSCALE:GREGORIAN
BEGIN:VEVENT
DTSTART:20250306T230000Z
DTEND:20250307T000000Z
X-MICROSOFT-CDO-ALLDAYEVENT:FALSE
SUMMARY:Comience su negocio: ¡Pruebe la viabilidad!
DESCRIPTION:Crees que tienes una gran idea de negocio\, pero no sabes c mo empezar? En este seminario web GRATUITO lo ayudaremos a comprender lo que implica comenzar un negocio y su etapa personal de preparaci n.\n\n\n\nNo solo discutiremos los conceptos b sicos para iniciar un negocio\, sino que tambi n le brindaremos las herramientas que necesita para decidir si tiene o no un negocio viable.\n\n\n\nLos temas cubiertos son:\n\n\n\nMitos y realidades del emprendimiento.\n\n Tiene lo que se necesita para iniciar y administrar una peque a empresa? - Eval e sus habilidades y experiencia.\n\n Cu l es la diferencia entre un plan estrat gico y un plan de negocio? - Y por qu  los necesitas.\n\n Es viable su idea de negocio?\n\nEjercicios pr cticos que le ayudar n a probar la viabilidad de la puesta en marcha de su negocio.\n\n\n\nEste taller est  garantizado para ser el primer paso s lido para lograr el  xito que desea.
X-ALT-DESC;FMTTYPE=text/html:&iquest\;Crees que tienes una gran idea de negocio\, pero no sabes c&oacute\;mo empezar? En este seminario web GRATUITO lo ayudaremos a comprender lo que implica comenzar un negocio y su etapa personal de preparaci&oacute\;n.<br />\n<br />\nNo solo discutiremos los conceptos b&aacute\;sicos para iniciar un negocio\, sino que tambi&eacute\;n le brindaremos las herramientas que necesita para decidir si tiene o no un negocio viable.<br />\n<br />\nLos temas cubiertos son:<br />\n<br />\nMitos y realidades del emprendimiento.<br />\n&iquest\;Tiene lo que se necesita para iniciar y administrar una peque&ntilde\;a empresa? - Eval&uacute\;e sus habilidades y experiencia.<br />\n&iquest\;Cu&aacute\;l es la diferencia entre un plan estrat&eacute\;gico y un plan de negocio? - Y por qu&eacute\; los necesitas.<br />\n&iquest\;Es viable su idea de negocio?<br />\nEjercicios pr&aacute\;cticos que le ayudar&aacute\;n a probar la viabilidad de la puesta en marcha de su negocio.<br />\n<br />\nEste taller est&aacute\; garantizado para ser el primer paso s&oacute\;lido para lograr el &eacute\;xito que desea.
LOCATION:Online Event
UID:e.3485.13726
SEQUENCE:3
DTSTAMP:20260422T192420Z
URL:https://www.mountdora.com/events/details/comience-su-negocio-pruebe-la-viabilidad-13726
END:VEVENT

END:VCALENDAR
