BEGIN:VCALENDAR
VERSION:2.0
PRODID:-//ChamberMaster//Event Calendar 2.0//EN
METHOD:PUBLISH
X-PUBLISHED-TTL:P3D
REFRESH-INTERVAL:P3D
CALSCALE:GREGORIAN
BEGIN:VEVENT
DTSTART:20250819T160000Z
DTEND:20250819T180000Z
X-MICROSOFT-CDO-ALLDAYEVENT:FALSE
SUMMARY:Coffee & Crusing - Expedia Cruises
DESCRIPTION:Get ready to embark on the adventure of a lifetime with National Geographic-Lindblad Expeditions! These small ships are your ticket to remote destinations\n\nthat are simply off the beaten path\, allowing you to explore the world like never before. With a world-class expedition team at your side\, featuring National Geographic photographers and explorers who are bursting with knowledge and passion\, you'll be inspired every step of the way. Get ready to set sail with Azamara Cruises!\n\nStop by Coffee & Cruising to learn more. Beverages and Hor D'oeuvres will be served. Enter to win a vacation for two valued up to $7\,500 with airfare included!
X-ALT-DESC;FMTTYPE=text/html:Get ready to embark on the adventure of a lifetime&nbsp\;with National Geographic-Lindblad Expeditions!&nbsp\;These small ships are your ticket to remote destinations<br />\nthat are simply off the beaten path\, allowing you to&nbsp\;explore the world like never before.&nbsp\;With a world-class expedition team at your side\,&nbsp\;featuring National Geographic photographers and&nbsp\;explorers who are bursting with knowledge and passion\,&nbsp\;you&rsquo\;ll be inspired every step of the way.&nbsp\;Get ready to set sail with Azamara Cruises!<br />\nStop by Coffee &amp\; Cruising to learn more. Beverages and Hor D&#39\;oeuvres will be served. Enter to win a vacation for two valued up to $7\,500 with airfare included!&nbsp\;<br />\n&nbsp\;
LOCATION:Expedia Cruises North Orlando 18778 US-441\, Mt Dora\, FL 32757
UID:e.3485.19594
SEQUENCE:3
DTSTAMP:20260422T131912Z
URL:https://www.mountdora.com/events/details/coffee-crusing-expedia-cruises-19594
END:VEVENT

END:VCALENDAR
