BEGIN:VCALENDAR
VERSION:2.0
PRODID:-//ChamberMaster//Event Calendar 2.0//EN
METHOD:PUBLISH
X-PUBLISHED-TTL:P3D
REFRESH-INTERVAL:P3D
CALSCALE:GREGORIAN
BEGIN:VEVENT
DTSTART:20250221T160000Z
DTEND:20250221T170000Z
X-MICROSOFT-CDO-ALLDAYEVENT:FALSE
SUMMARY:Classical Concert featuring Cellist Evan Drachman and Pianist Victor Santiago Asuncion
DESCRIPTION:Classical Concert featuring Cellist Evan Drachman and Pianist Victor Santiago Asuncion W.T. Bland Public Library (Mount Dora) - Community Room In-Person The Piatigorsky Foundation in partnership with the library present a classical music concert featuring Cellist Evan Drachman and Pianist Victor Santiago Asuncion. Following the concert\, please stay and meet the artists. Free and open to the public\; refreshments served. The Piatigorsky Foundation is dedicated to making live classical music an integral part of everyday life for communities throughout the United States. Sponsored by the Mount Dora Library Association.
X-ALT-DESC;FMTTYPE=text/html:Classical Concert featuring Cellist Evan Drachman and Pianist Victor Santiago Asuncion W.T. Bland Public Library (Mount Dora) - Community Room In-Person The Piatigorsky Foundation in partnership with the library present a classical music concert featuring Cellist Evan Drachman and Pianist Victor Santiago Asuncion. Following the concert\, please stay and meet the artists. Free and open to the public\; refreshments served. The Piatigorsky Foundation is dedicated to making live classical music an integral part of everyday life for communities throughout the United States. Sponsored by the Mount Dora Library Association.
LOCATION:W.T. Bland Public Library: 1995 N. Donnelly St.\, Mount Dora\, FL 32757
UID:e.3485.14591
SEQUENCE:3
DTSTAMP:20260423T011911Z
URL:https://www.mountdora.com/events/details/classical-concert-featuring-cellist-evan-drachman-and-pianist-victor-santiago-asuncion-14591
END:VEVENT

END:VCALENDAR
