BEGIN:VCALENDAR
VERSION:2.0
PRODID:-//ChamberMaster//Event Calendar 2.0//EN
METHOD:PUBLISH
X-PUBLISHED-TTL:P3D
REFRESH-INTERVAL:P3D
CALSCALE:GREGORIAN
BEGIN:VEVENT
DTSTART:20250828T160000Z
DTEND:20250828T170000Z
X-MICROSOFT-CDO-ALLDAYEVENT:FALSE
SUMMARY:Civility in the Workplace
DESCRIPTION:While a training program on workplace manners and courtesy may seem like overkill\, the reality is: rudeness is an epidemic costing industries millions a year.\n\n\n\n\n\nIndeed\, what society seems to be gaining in terms of knowledge and technological advancement\, it's losing on basic social values. Bosses freely intrude on subordinates' personal space\, gossiping co-workers are the norm\, and quality customer care has been forgotten. The result: an environment not conducive to getting work done\, dissatisfied clients aiming for the competition\, and in some cases\, blatant tolerance for abuse and harassment.\n\n\n\n\n\nTo address the growing problem of incivility in the work setting\, this workshop introduces the concept of civility\, its importance to a company\, as well as its typical causes and effects. The benefits to Civility In The Workplace are many and will pay off immensely in every aspect of your job. \n\n\n\nThis session is approved for SHRM and HRCI Business Credit.\n\n\n\n\n\nLearning Objectives \n\n\n\n Improved Communication: Review the elements of effective communication and professional behavior\, including business etiquette and respect in the workplace \n\nConflict Resolution: Understand styles of conflict resolution and how we can agree to disagree\, agreeably.\n\nNext steps: Offer attendees a go-forward plan for implementing civility practices in their workplace
X-ALT-DESC;FMTTYPE=text/html:While a training program on workplace manners and courtesy may seem like overkill\, the reality is: rudeness is an epidemic costing industries millions a year.<br />\n<br />\n<br />\nIndeed\, what society seems to be gaining in terms of knowledge and technological advancement\, it&rsquo\;s losing on basic social values. Bosses freely intrude on subordinates&rsquo\; personal space\, gossiping co-workers are the norm\, and quality customer care has been forgotten. The result: an environment not conducive to getting work done\, dissatisfied clients aiming for the competition\, and in some cases\, blatant tolerance for abuse and harassment.<br />\n<br />\n<br />\nTo address the growing problem of incivility in the work setting\, this workshop introduces the concept of civility\, its importance to a company\, as well as its typical causes and effects. The benefits to Civility In The Workplace are many and will pay off immensely in every aspect of your job.&nbsp\;<br />\n<br />\nThis session is approved for SHRM and HRCI Business Credit.<br />\n<br />\n<br />\nLearning Objectives&nbsp\;<br />\n<br />\n&nbsp\;Improved Communication: Review the elements of effective communication and professional behavior\, including business etiquette and respect in the workplace&nbsp\;<br />\nConflict Resolution: Understand styles of conflict resolution and how we can agree to disagree\, agreeably.<br />\nNext steps: Offer attendees a go-forward plan for implementing civility practices in their workplace<br />\n<br />\n&nbsp\;
LOCATION:Online Event
UID:e.3485.19457
SEQUENCE:3
DTSTAMP:20260422T102901Z
URL:https://www.mountdora.com/events/details/civility-in-the-workplace-19457
END:VEVENT

END:VCALENDAR
