BEGIN:VCALENDAR
VERSION:2.0
PRODID:-//ChamberMaster//Event Calendar 2.0//EN
METHOD:PUBLISH
X-PUBLISHED-TTL:P3D
REFRESH-INTERVAL:P3D
CALSCALE:GREGORIAN
BEGIN:VEVENT
DTSTART:20250113T230000Z
DTEND:20250114T010000Z
X-MICROSOFT-CDO-ALLDAYEVENT:FALSE
SUMMARY:City of Mount Dora Parking Solution Work Session
DESCRIPTION:Join members of the City Council for a Parking Solution Work Session
X-ALT-DESC;FMTTYPE=text/html:Join members of the City Council for a Parking Solution Work Session
LOCATION:510 N. Baker Street\, City Hall
UID:e.3485.13680
SEQUENCE:3
DTSTAMP:20260422T234705Z
URL:https://www.mountdora.com/events/details/city-of-mount-dora-parking-solution-work-session-13680
END:VEVENT

END:VCALENDAR
