BEGIN:VCALENDAR
VERSION:2.0
PRODID:-//ChamberMaster//Event Calendar 2.0//EN
METHOD:PUBLISH
X-PUBLISHED-TTL:P3D
REFRESH-INTERVAL:P3D
CALSCALE:GREGORIAN
BEGIN:VEVENT
DTSTART:20211205T160000Z
DTEND:20211205T210000Z
X-MICROSOFT-CDO-ALLDAYEVENT:FALSE
SUMMARY:Christmas Tour of Homes
DESCRIPTION:The Mount Dora Women's Committee of Fine Arts (WCFA) is presenting: The 43rd year of the Christmas Tour of Homes
X-ALT-DESC;FMTTYPE=text/html:<span style="font-family:arial\,sans-serif\;"><span style="font-size:10.0pt\;">The Mount Dora Women&#39\;s Committee of Fine Arts (WCFA) is presenting: The 43rd year of the Christmas Tour of Homes</span></span>
LOCATION:This is a self-driving tour within Mount Dora to visit 6 homes inside and out\, beautifully decorated for the holidays. The first stop on the tour will be at the Mt Dora Country Club clubhouse located at 1900 Country Club Blvd\, Mount Dora\, where you will receive a wrist band for entry into the homes and a map indicating the home locations.
UID:e.3485.4141
SEQUENCE:3
DTSTAMP:20260424T195342Z
URL:https://www.mountdora.com/events/details/christmas-tour-of-homes-4141
END:VEVENT

END:VCALENDAR
