BEGIN:VCALENDAR
VERSION:2.0
PRODID:-//ChamberMaster//Event Calendar 2.0//EN
METHOD:PUBLISH
X-PUBLISHED-TTL:P3D
REFRESH-INTERVAL:P3D
CALSCALE:GREGORIAN
BEGIN:VEVENT
DTSTART;VALUE=DATE:20250226
DTEND;VALUE=DATE:20250305
TRANSP:TRANSPARENT
X-MICROSOFT-CDO-ALLDAYEVENT:TRUE
SUMMARY:Chef's Week - Mardi Gras
DESCRIPTION:Get ready to spice up your week Chef's Week at La Margarita Restaurant debuts February 26   March 4. This month\, we're bringing the Big Easy to you with a festive New Orleans Mardi Gras theme! Celebrate Fat Tuesday in style with vibrant flavors\, delicious dishes\, and a whole lot of fun. Laissez les bons temps rouler let the good times roll! Make your reservation today and stamp your culinary passport!
X-ALT-DESC;FMTTYPE=text/html:<span style="font-family:new-frank\,sans-serif\; font-size:16px">Get ready to spice up your week&mdash\;Chef&#39\;s Week at La Margarita Restaurant debuts February 26 &ndash\; March 4. This month\, we&#39\;re bringing the Big Easy to you with a festive New Orleans Mardi Gras theme! Celebrate Fat Tuesday in style with vibrant flavors\, delicious dishes\, and a whole lot of fun. Laissez les bons temps rouler&mdash\;let the good times roll! Make your reservation today and stamp your culinary passport!&nbsp\;</span><span style="font-family:new-frank\,sans-serif\; font-size:16px">&nbsp\;</span>
LOCATION:Mission Resort + Club La Margarita Restaurant 10400 County Road 48\, Howey-in-the-Hills\, FL\, 34737
UID:e.3485.14593
SEQUENCE:3
DTSTAMP:20260422T235311Z
URL:https://www.mountdora.com/events/details/chef-s-week-mardi-gras-14593
END:VEVENT

END:VCALENDAR
