BEGIN:VCALENDAR
VERSION:2.0
PRODID:-//ChamberMaster//Event Calendar 2.0//EN
METHOD:PUBLISH
X-PUBLISHED-TTL:P3D
REFRESH-INTERVAL:P3D
CALSCALE:GREGORIAN
BEGIN:VEVENT
DTSTART:20250912T220000Z
DTEND:20250913T000000Z
X-MICROSOFT-CDO-ALLDAYEVENT:FALSE
SUMMARY:Chef Danny's Cooking Class
DESCRIPTION:Join us for Chef Danny's Cooking Class on Friday\, September 12th at 6pm! Enjoy a delicious evening as Chef Danny demonstrates how to prepare Cucumber Peach Salad with Balsamic Dijon Dressing\, Apple & Bacon Stuffed Pork Tenderloin with Pan Gravy & topped with Zucchini Noodles\, and Chocolate Lava Cake all while our kitchen serves each dish for you to enjoy. \n\n \n\nPrice is $40 for guests (service charge and tax additional)\n\nIncludes soda\, tea\, or coffee.\n\nRSVP to Grove House at 352-324-2718.
X-ALT-DESC;FMTTYPE=text/html:<div>Join us for Chef Danny&rsquo\;s Cooking Class on Friday\, September 12th at 6pm! Enjoy a delicious evening as Chef Danny demonstrates how to prepare Cucumber Peach Salad with Balsamic Dijon Dressing\, Apple &amp\; Bacon Stuffed Pork Tenderloin with Pan Gravy &amp\; topped with Zucchini Noodles\, and Chocolate Lava Cake&mdash\;all while our kitchen serves each dish for you to enjoy.&nbsp\;<br />\n&nbsp\;</div>\n\n<div>Price is $40 for guests (service charge and tax additional)<br />\nIncludes soda\, tea\, or coffee.<br />\nRSVP to Grove House at 352-324-2718.</div>\n
LOCATION:Grove House Restaurant Mission Resort + Club 10400 County Road 48\, Howey-in-the-Hills\, FL\, 34737
UID:e.3485.19660
SEQUENCE:3
DTSTAMP:20260422T145908Z
URL:https://www.mountdora.com/events/details/chef-danny-s-cooking-class-09-12-2025-19660
END:VEVENT

END:VCALENDAR
