BEGIN:VCALENDAR
VERSION:2.0
PRODID:-//ChamberMaster//Event Calendar 2.0//EN
METHOD:PUBLISH
X-PUBLISHED-TTL:P3D
REFRESH-INTERVAL:P3D
CALSCALE:GREGORIAN
BEGIN:VEVENT
DTSTART:20241210T150000Z
DTEND:20241210T170000Z
X-MICROSOFT-CDO-ALLDAYEVENT:FALSE
SUMMARY:ChatGPT 202: Monetize and Boost your Business with the Power of Prompts
DESCRIPTION:So now that you have heard about ChatGPT\, and know a little bit about it\, are you eager to unlock its full potential and monetize it for your business? Sure\, ChatGPT can be used for content creation\, customer support\, business operations\, and so much more but how\, exactly?! Well\, the power is in the "prompts". If you are ready to unleash the magic of prompt engineering and monetize ChatGPT like never before\, look no further! We will dive into the world of prompt engineering\, revealing the secrets to crafting the best prompts that will skyrocket your business growth and monetization potential with ChatGPT.\n\n\n\nIn this interactive\, engaging\, fun\, and fundamental (i.e. beginner-friendly) webinar\, you'll learn how to:\n\n\n\nCraft effective prompts to get the most benefit for your business \n\nAlign ChatpGPT with your unique brand voice and image\n\nMonetization ChatGPT to accelerate your business growth\n\nCreate more time\, efficiency\, and effectiveness in your business (and life)\n\n\n\nGet ready to learn how to effortlessly develop the best prompts that not only captivate and engage your audience but also drive tangible monetization opportunities with ChatGPT to exponentially grow your business\, fast!
X-ALT-DESC;FMTTYPE=text/html:So now that you have heard about ChatGPT\, and know a little bit about it\, are you eager to unlock its full potential and monetize it for your business? Sure\, ChatGPT can be used for content creation\, customer support\, business operations\, and so much more&hellip\;but how\, exactly?! Well\, the power is in the &ldquo\;prompts&rdquo\;. If you are ready to unleash the magic of prompt engineering and monetize ChatGPT like never before\, look no further! We will dive into the world of prompt engineering\, revealing the secrets to crafting the best prompts that will skyrocket your business growth and monetization potential with ChatGPT.<br />\n<br />\nIn this interactive\, engaging\, fun\, and fundamental (i.e. beginner-friendly) webinar\, you&rsquo\;ll learn how to:<br />\n<br />\nCraft effective prompts to get the most benefit for your business&nbsp\;<br />\nAlign ChatpGPT with your unique brand voice and image<br />\nMonetization ChatGPT to accelerate your business growth<br />\nCreate more time\, efficiency\, and effectiveness in your business (and life)<br />\n<br />\nGet ready to learn how to effortlessly develop the best prompts that not only captivate and engage your audience but also drive tangible monetization opportunities with ChatGPT to exponentially grow your business\, fast!
LOCATION:Online Event
UID:e.3485.13195
SEQUENCE:3
DTSTAMP:20260422T223455Z
URL:https://www.mountdora.com/events/details/chatgpt-202-monetize-and-boost-your-business-with-the-power-of-prompts-12-10-2024-13195
END:VEVENT

END:VCALENDAR
