BEGIN:VCALENDAR
VERSION:2.0
PRODID:-//ChamberMaster//Event Calendar 2.0//EN
METHOD:PUBLISH
X-PUBLISHED-TTL:P3D
REFRESH-INTERVAL:P3D
CALSCALE:GREGORIAN
BEGIN:VEVENT
DTSTART:20241219T130000Z
DTEND:20241219T143000Z
X-MICROSOFT-CDO-ALLDAYEVENT:FALSE
SUMMARY:CEO Impact: 2 Leadership Gifts You Can Give and Receive in 2025
DESCRIPTION:Join us for this interactive learning session to end the year strong and set the stage for your best year ever in 2025.
X-ALT-DESC;FMTTYPE=text/html:Join us for this interactive learning session to end the year strong and set the stage for your best year ever in 2025.
LOCATION:Online Event
UID:e.3485.13218
SEQUENCE:3
DTSTAMP:20260422T223457Z
URL:https://www.mountdora.com/events/details/ceo-impact-2-leadership-gifts-you-can-give-and-receive-in-2025-13218
END:VEVENT

END:VCALENDAR
