BEGIN:VCALENDAR
VERSION:2.0
PRODID:-//ChamberMaster//Event Calendar 2.0//EN
METHOD:PUBLISH
X-PUBLISHED-TTL:P3D
REFRESH-INTERVAL:P3D
CALSCALE:GREGORIAN
BEGIN:VEVENT
DTSTART:20190608T200000Z
DTEND:20190608T220000Z
X-MICROSOFT-CDO-ALLDAYEVENT:FALSE
SUMMARY:Cat Boat Tour Adventures Ribbon Cutting
DESCRIPTION:Refreshments and drawings for a 15 minute ride that day. Also a drawing for two for a future full Catboat experience! Come on out!
X-ALT-DESC;FMTTYPE=text/html:<span style="color:#1F3864\;"><span style="font-family:arial\,sans-serif\;">Refreshments and drawings for a 15 minute ride that day. Also a drawing for two for a future full Catboat experience! Come on out!</span></span>
LOCATION:Mount Dora Boating Center & Marina 148 Charles Avenue Mount Dora\, FL 32757
UID:e.3485.1228
SEQUENCE:3
DTSTAMP:20260419T235018Z
URL:https://www.mountdora.com/events/details/cat-boat-tour-adventures-ribbon-cutting-1228
END:VEVENT

END:VCALENDAR
