BEGIN:VCALENDAR
VERSION:2.0
PRODID:-//ChamberMaster//Event Calendar 2.0//EN
METHOD:PUBLISH
X-PUBLISHED-TTL:P3D
REFRESH-INTERVAL:P3D
CALSCALE:GREGORIAN
BEGIN:VEVENT
DTSTART:20250819T220000Z
DTEND:20250819T230000Z
X-MICROSOFT-CDO-ALLDAYEVENT:FALSE
SUMMARY:Casados con el Negocio: Cómo Dirigir una Empresa Familiar Sin Chocarse en el Cam
DESCRIPTION:C mo Dirigir una Empresa Familiar Sin Chocarse en el Camino - Trabajar con la familia puede fortalecer o tensar las relaciones. En esta sesi n\, exploraremos c mo establecer l mites saludables\, roles claros y comunicaci n efectiva para que el negocio crezca sin sacrificar el hogar.  Crecimiento con armon a s  es posible!
X-ALT-DESC;FMTTYPE=text/html:C&oacute\;mo Dirigir una Empresa Familiar Sin Chocarse en el Camino - Trabajar con la familia puede fortalecer o tensar las relaciones. En esta sesi&oacute\;n\, exploraremos c&oacute\;mo establecer l&iacute\;mites saludables\, roles claros y comunicaci&oacute\;n efectiva para que el negocio crezca sin sacrificar el hogar. &iexcl\;Crecimiento con armon&iacute\;a s&iacute\; es posible!
LOCATION:Online Event
UID:e.3485.19448
SEQUENCE:3
DTSTAMP:20260422T110506Z
URL:https://www.mountdora.com/events/details/casados-con-el-negocio-c&#243;mo-dirigir-una-empresa-familiar-sin-chocarse-en-el-cam-19448
END:VEVENT

END:VCALENDAR
