BEGIN:VCALENDAR
VERSION:2.0
PRODID:-//ChamberMaster//Event Calendar 2.0//EN
METHOD:PUBLISH
X-PUBLISHED-TTL:P3D
REFRESH-INTERVAL:P3D
CALSCALE:GREGORIAN
BEGIN:VEVENT
DTSTART:20250422T190000Z
DTEND:20250422T200000Z
X-MICROSOFT-CDO-ALLDAYEVENT:FALSE
SUMMARY:Business Strategy: What Lifting Dumbbells and Booking Demos Can Teach You
DESCRIPTION:Ever feel like marketing is just throwing spaghetti at the wall and seeing what sticks? Well\, what if you could swap the guesswork for a game plan?\n\n\n\nIn this lively and insightful webinar\, you will be shown how to apply a messaging hypothesis to your marketing\, just like a scientist testing a breakthrough (but with less lab equipment and more ROI).\n\n\n\nYou'll learn:\n\n\n\n? Why you already use hypotheses every day   whether it's in dating\, dieting\, or demo bookings (yes\, really).\n\n\n\n? How to craft a winning messaging hypothesis that fuels smarter marketing\, sharper messaging\, and stronger conversions.\n\n\n\n? Real-world examples of businesses using data-backed strategies to optimize their outreach\, landing pages\, and sales funnels.\n\n\n\nJoin us for an entertaining\, practical deep-dive into the science of selling. We promise: no beakers\, no lab coats   just insights that make marketing feel a little less like alchemy and a lot more like success. Register now and start marketing like a scientist (or at least like someone who knows what they're doing).
X-ALT-DESC;FMTTYPE=text/html:Ever feel like marketing is just throwing spaghetti at the wall and seeing what sticks? Well\, what if you could swap the guesswork for a game plan?<br />\n<br />\nIn this lively and insightful webinar\, you will be shown how to apply a messaging hypothesis to your marketing\, just like a scientist testing a breakthrough (but with less lab equipment and more ROI).<br />\n<br />\nYou&#39\;ll learn:<br />\n<br />\n?&nbsp\;Why you already use hypotheses every day &ndash\; whether it&rsquo\;s in dating\, dieting\, or demo bookings (yes\, really).<br />\n<br />\n?&nbsp\;How to craft a winning messaging hypothesis that fuels smarter marketing\, sharper messaging\, and stronger conversions.<br />\n<br />\n?&nbsp\;Real-world examples of businesses using data-backed strategies to optimize their outreach\, landing pages\, and sales funnels.<br />\n<br />\nJoin us for an entertaining\, practical deep-dive into the science of selling. We promise: no beakers\, no lab coats &ndash\; just insights that make marketing feel a little less like alchemy and a lot more like success. Register now and start marketing like a scientist (or at least like someone who knows what they&rsquo\;re doing).
LOCATION:Online Event
UID:e.3485.14616
SEQUENCE:3
DTSTAMP:20260420T073232Z
URL:https://www.mountdora.com/events/details/business-strategy-what-lifting-dumbbells-and-booking-demos-can-teach-you-14616
END:VEVENT

END:VCALENDAR
