BEGIN:VCALENDAR
VERSION:2.0
PRODID:-//ChamberMaster//Event Calendar 2.0//EN
METHOD:PUBLISH
X-PUBLISHED-TTL:P3D
REFRESH-INTERVAL:P3D
CALSCALE:GREGORIAN
BEGIN:VEVENT
DTSTART:20250328T113000Z
DTEND:20250328T140000Z
X-MICROSOFT-CDO-ALLDAYEVENT:FALSE
SUMMARY:Business Accelerator Series - Entrepreneurial Mindset Advantage
DESCRIPTION:Join us on Friday\, March 28th\, 7:30-10:00 AM\, at the Clermont City Center for an inspiring and transformative morning designed to help small businesses grow and thrive. Agenda: 7:30 AM: Check-In 8:00 AM: Breakfast & Networking 8:30 AM: Keynote & Q&A Discussion This month\, we're thrilled to feature Gary Schoeniger\, a globally recognized thought leader in entrepreneurial mindset education and professional development. Gary's accolades include: -Founder of the Entrepreneurial Learning Initiative (ELI)\, creator of the globally recognized Ice House Entrepreneurial Mindset Programs. -Forbes Business Council Member\, contributing thought leadership on entrepreneurship and innovation. -Pulitzer Prize Nominee\, co-author of the international bestseller Who Owns the Ice House? Eight Life Lessons from an Unlikely Entrepreneur. -Sought-After International Speaker\, delivering keynotes and workshops for organizations such as the Kauffman Foundation\, Harvard Business School\, and Harvard Psychology Department. -Recognized by institutions including the United Nations General Assembly\, the Papal Council for Peace and Justice at the Vatican\, and the European Commission for his contributions to entrepreneurial education. -Author of the recent book\, The Entrepreneurial Mindset Advantage. Gary's work challenges traditional paradigms of entrepreneurship\, focusing on the mindset and behaviors that drive success. He empowers individuals\, organizations\, and communities to unlock their potential and create meaningful impact. Why Attend? -Discover how to cultivate an entrepreneurial mindset to drive business growth. -Gain actionable insights from one of the most respected voices in entrepreneurship education. -Network with like-minded professionals and small business owners. Breakfast provided by: Cheeser's Palace Caf
X-ALT-DESC;FMTTYPE=text/html:Join us on Friday\, March 28th\, 7:30-10:00 AM\, at the Clermont City Center for an inspiring and transformative morning designed to help small businesses grow and thrive. Agenda: 7:30 AM: Check-In 8:00 AM: Breakfast &amp\; Networking 8:30 AM: Keynote &amp\; Q&amp\;A Discussion This month\, we&rsquo\;re thrilled to feature Gary Schoeniger\, a globally recognized thought leader in entrepreneurial mindset education and professional development. Gary&rsquo\;s accolades include: -Founder of the Entrepreneurial Learning Initiative (ELI)\, creator of the globally recognized Ice House Entrepreneurial Mindset Programs. -Forbes Business Council Member\, contributing thought leadership on entrepreneurship and innovation. -Pulitzer Prize Nominee\, co-author of the international bestseller Who Owns the Ice House? Eight Life Lessons from an Unlikely Entrepreneur. -Sought-After International Speaker\, delivering keynotes and workshops for organizations such as the Kauffman Foundation\, Harvard Business School\, and Harvard Psychology Department. -Recognized by institutions including the United Nations General Assembly\, the Papal Council for Peace and Justice at the Vatican\, and the European Commission for his contributions to entrepreneurial education. -Author of the recent book\, The Entrepreneurial Mindset Advantage. Gary&rsquo\;s work challenges traditional paradigms of entrepreneurship\, focusing on the mindset and behaviors that drive success. He empowers individuals\, organizations\, and communities to unlock their potential and create meaningful impact. Why Attend? -Discover how to cultivate an entrepreneurial mindset to drive business growth. -Gain actionable insights from one of the most respected voices in entrepreneurship education. -Network with like-minded professionals and small business owners. Breakfast provided by: Cheeser&rsquo\;s Palace Caf&eacute\;
LOCATION:Clermont City Center\, 620 West Montrose St\, Clermont\, FL
UID:e.3485.14800
SEQUENCE:3
DTSTAMP:20260422T192351Z
URL:https://www.mountdora.com/events/details/business-accelerator-series-entrepreneurial-mindset-advantage-14800
END:VEVENT

END:VCALENDAR
