BEGIN:VCALENDAR
VERSION:2.0
PRODID:-//ChamberMaster//Event Calendar 2.0//EN
METHOD:PUBLISH
X-PUBLISHED-TTL:P3D
REFRESH-INTERVAL:P3D
CALSCALE:GREGORIAN
BEGIN:VEVENT
DTSTART:20250603T140000Z
DTEND:20250603T150000Z
X-MICROSOFT-CDO-ALLDAYEVENT:FALSE
SUMMARY:Building Resilience: The H.E.R.O. Blueprint for Overcoming Life’s Challenges &
DESCRIPTION:In this engaging seminar\, Chardo Richardson will guide you through the science and practice of resilience an essential skill for navigating life and business. Drawing from his H.E.R.O. Program\, Chardo will delve into psychological capital (PsyCap) and how fostering hope\, efficacy\, resilience\, and optimism can empower you to overcome obstacles\, embrace challenges\, and achieve your goals. Attendees will leave with actionable strategies to build mental toughness\, create sustainable growth\, and thrive under pressure.\n\n\n\nDiscover the Four Pillars of PsyCap: Gain a brief overview of Hope\, Efficacy\, Resilience\, and Optimism and understand how these components interplay to enhance psychological and professional well-being.\n\n\n\nUnderstand Resilience: Explore the concept of resilience and its critical role in personal and professional success.\n\n\n\nApply Resilience in Business: Discover how resilience fuels leadership\, decision-making\, and adaptability in professional environments.\n\n\n\nCreate a Resilience Action Plan: Leave with a personalized strategy to foster resilience and enhance overall well-being.
X-ALT-DESC;FMTTYPE=text/html:In this engaging seminar\, Chardo Richardson will guide you through the science and practice of resilience&mdash\;an essential skill for navigating life and business. Drawing from his H.E.R.O. Program\, Chardo will delve into psychological capital (PsyCap) and how fostering hope\, efficacy\, resilience\, and optimism can empower you to overcome obstacles\, embrace challenges\, and achieve your goals. Attendees will leave with actionable strategies to build mental toughness\, create sustainable growth\, and thrive under pressure.<br />\n<br />\nDiscover the Four Pillars of PsyCap: Gain a brief overview of Hope\, Efficacy\, Resilience\, and Optimism and understand how these components interplay to enhance psychological and professional well-being.<br />\n<br />\nUnderstand Resilience: Explore the concept of resilience and its critical role in personal and professional success.<br />\n<br />\nApply Resilience in Business: Discover how resilience fuels leadership\, decision-making\, and adaptability in professional environments.<br />\n<br />\nCreate a Resilience Action Plan: Leave with a personalized strategy to foster resilience and enhance overall well-being.<br />\n<br />\n&nbsp\;
LOCATION:Online Event
UID:e.3485.18277
SEQUENCE:3
DTSTAMP:20260422T150516Z
URL:https://www.mountdora.com/events/details/building-resilience-the-h-e-r-o-blueprint-for-overcoming-life-s-challenges-18277
END:VEVENT

END:VCALENDAR
