BEGIN:VCALENDAR
VERSION:2.0
PRODID:-//ChamberMaster//Event Calendar 2.0//EN
METHOD:PUBLISH
X-PUBLISHED-TTL:P3D
REFRESH-INTERVAL:P3D
CALSCALE:GREGORIAN
BEGIN:VEVENT
DTSTART:20251010T210000Z
DTEND:20251011T000000Z
X-MICROSOFT-CDO-ALLDAYEVENT:FALSE
SUMMARY:Bra-Vo Fundraiser Reception
DESCRIPTION:Artisans Annual fundraiser for breast cancer awareness. Refreshments\, raffle prizes and gifts. Small Art with a Big Heart 6"x6" art canvasses created by the local community on sale with proceeds to benefit Advent Health Waterman Foundation. Funding breast cancer screening and related assistance for Lake County Residents.
X-ALT-DESC;FMTTYPE=text/html:Artisans Annual fundraiser for breast cancer awareness. Refreshments\, raffle prizes and gifts. Small Art with a Big Heart 6&quot\;x6&quot\; art canvasses created by the local community on sale with proceeds to benefit Advent Health Waterman Foundation. Funding breast cancer screening and related assistance for Lake County Residents.
LOCATION:139 E. 4th Ave Mount Dora
UID:e.3485.19722
SEQUENCE:3
DTSTAMP:20260422T115843Z
URL:https://www.mountdora.com/events/details/bra-vo-fundraiser-reception-19722
END:VEVENT

END:VCALENDAR
