BEGIN:VCALENDAR
VERSION:2.0
PRODID:-//ChamberMaster//Event Calendar 2.0//EN
METHOD:PUBLISH
X-PUBLISHED-TTL:P3D
REFRESH-INTERVAL:P3D
CALSCALE:GREGORIAN
BEGIN:VEVENT
DTSTART:20240808T213000Z
DTEND:20240809T003000Z
X-MICROSOFT-CDO-ALLDAYEVENT:FALSE
SUMMARY:Eden Abbey/Viva Liquors Bottle Release Party
DESCRIPTION:FOR ONE NIGHT ONLY\, Mount Dora Chamber members are invited to join Viva LIquors and Eden Abbey at an extremely limited edition Bottle Release Party. An Ezra Brooks Cask Strength Bourbon Barrel (donated by Viva LIquors) was home to Eden Abbey's delicious Highlander Scotch Ale for 4 full months\, lending it incredibly rich and complex flavors. This delicious collab brew will be on tap\, and 1 bottle will be available for purchase per guest while supplies last\, ONE NIGHT ONLY.\n\nLive Music\, and full menu and bar available!\n\nDon't miss it!
X-ALT-DESC;FMTTYPE=text/html:FOR ONE NIGHT ONLY\, Mount Dora Chamber members are invited to join Viva LIquors and Eden Abbey at an extremely limited edition Bottle Release Party. An Ezra Brooks Cask Strength Bourbon Barrel (donated by Viva LIquors) was home to Eden Abbey&#39\;s delicious Highlander Scotch Ale for 4 full months\, lending it incredibly rich and complex flavors. This delicious collab brew will be on tap\, and 1 bottle will be available for purchase per guest while supplies last\, ONE NIGHT ONLY.<br />\nLive Music\, and full menu and bar available!<br />\nDon&#39\;t miss it!
LOCATION:Eden Abbey Brewing Community 405 S. Highland St. Mount Dora\, FL 32757
UID:e.3485.12549
SEQUENCE:3
DTSTAMP:20260420T070103Z
URL:https://www.mountdora.com/events/details/bottle-release-party-12549
END:VEVENT

END:VCALENDAR
