BEGIN:VCALENDAR
VERSION:2.0
PRODID:-//ChamberMaster//Event Calendar 2.0//EN
METHOD:PUBLISH
X-PUBLISHED-TTL:P3D
REFRESH-INTERVAL:P3D
CALSCALE:GREGORIAN
BEGIN:VEVENT
DTSTART:20250805T160000Z
DTEND:20250805T170000Z
X-MICROSOFT-CDO-ALLDAYEVENT:FALSE
SUMMARY:Borrowing For Small Business
DESCRIPTION:In this workshop\, we discuss:\n\n\n\nWhy businesses need funds.\n\nWhere to find funding.\n\nHow to select the right type of financing.\n\nWhat lenders look for.\n\nThe borrowing process.\n\nHow to create your business borrowing profile.\n\nNext steps after a financing decision.
X-ALT-DESC;FMTTYPE=text/html:In this workshop\, we discuss:<br />\n<br />\nWhy businesses need funds.<br />\nWhere to find funding.<br />\nHow to select the right type of financing.<br />\nWhat lenders look for.<br />\nThe borrowing process.<br />\nHow to create your business borrowing profile.<br />\nNext steps after a financing decision.
LOCATION:Online Event
UID:e.3485.19432
SEQUENCE:3
DTSTAMP:20260422T105410Z
URL:https://www.mountdora.com/events/details/borrowing-for-small-business-08-05-2025-19432
END:VEVENT

END:VCALENDAR
