BEGIN:VCALENDAR
VERSION:2.0
PRODID:-//ChamberMaster//Event Calendar 2.0//EN
METHOD:PUBLISH
X-PUBLISHED-TTL:P3D
REFRESH-INTERVAL:P3D
CALSCALE:GREGORIAN
BEGIN:VEVENT
DTSTART:20250121T140000Z
DTEND:20250121T153000Z
X-MICROSOFT-CDO-ALLDAYEVENT:FALSE
SUMMARY:Best Interview Questions and the Psychology of WHY
DESCRIPTION:You've put out the job ad\, sifted through the resumes\, called candidates\, and scheduled interviews. In this workshop\, we'll review best practices for a great interview\, plus examples of great (and not so great) interviews that the presenter has held! You'll walk away with a foundation to create an efficient and effective interview process. \n\n\n\n\n\n\n\n\n\nThis interactive presentation will cover: \n\n\n\n* Human behavior in the interview: aka\, humans are weird\, but you still have to hire them. \n\n\n\n* Cognitive biases that could cause you to make a bad hiring decision. \n\n\n\n* How anxiety impacts your interviewee\n\n\n\n* Other ways to assess if your interviewee is the right match\n\n\n\n* Avoiding illegal questions and how to NOT make your interviewee uncomfortable\n\n\n\n* Tips for virtual interviews\n\n\n\n* Best practices for standardizing interviews
X-ALT-DESC;FMTTYPE=text/html:You&rsquo\;ve put out the job ad\, sifted through the resumes\, called candidates\, and scheduled interviews. In this workshop\, we&rsquo\;ll review best practices for a great interview\, plus examples of great (and not so great) interviews that the presenter has&nbsp\;held! You&rsquo\;ll walk away with a foundation to create an efficient and effective interview process.&nbsp\;<br />\n<br />\n<br />\n<br />\n<br />\nThis interactive presentation will cover:&nbsp\;<br />\n<br />\n* Human behavior in the interview: aka\, humans are weird\, but you still have to hire them.&nbsp\;<br />\n<br />\n* Cognitive biases that could cause you to make a bad hiring&nbsp\;decision.&nbsp\;<br />\n<br />\n* How anxiety impacts your interviewee<br />\n<br />\n* Other ways to assess if your interviewee is the right match<br />\n<br />\n* Avoiding illegal questions and how to NOT make your interviewee uncomfortable<br />\n<br />\n* Tips for virtual interviews<br />\n<br />\n* Best practices for standardizing interviews
LOCATION:Online Event
UID:e.3485.13260
SEQUENCE:3
DTSTAMP:20260422T223222Z
URL:https://www.mountdora.com/events/details/best-interview-questions-and-the-psychology-of-why-13260
END:VEVENT

END:VCALENDAR
