BEGIN:VCALENDAR
VERSION:2.0
PRODID:-//ChamberMaster//Event Calendar 2.0//EN
METHOD:PUBLISH
X-PUBLISHED-TTL:P3D
REFRESH-INTERVAL:P3D
CALSCALE:GREGORIAN
BEGIN:VEVENT
DTSTART:20250917T193000Z
DTEND:20250917T203000Z
X-MICROSOFT-CDO-ALLDAYEVENT:FALSE
SUMMARY:Bells Across America
DESCRIPTION:Bells Across America is an annual celebration of the signing of the signing of the US Constitution. We gather to ring bells just as churches in Philadelphia did when the constitution was first signed. Please join us to continue this tradition!
X-ALT-DESC;FMTTYPE=text/html:Bells Across America is an annual celebration of the signing of the signing of the US Constitution. We gather to ring bells just as churches in Philadelphia did when the constitution was first signed. Please join us to continue this tradition!
LOCATION:Congregational Church of Mount Dora 650 N. Donnelly Street Mount Dora\, FL 32757
UID:e.3485.19658
SEQUENCE:3
DTSTAMP:20260422T150250Z
URL:https://www.mountdora.com/events/details/bells-across-america-09-17-2025-19658
END:VEVENT

END:VCALENDAR
