BEGIN:VCALENDAR
VERSION:2.0
PRODID:-//ChamberMaster//Event Calendar 2.0//EN
METHOD:PUBLISH
X-PUBLISHED-TTL:P3D
REFRESH-INTERVAL:P3D
CALSCALE:GREGORIAN
BEGIN:VEVENT
DTSTART:20260317T220000Z
DTEND:20260317T233000Z
X-MICROSOFT-CDO-ALLDAYEVENT:FALSE
SUMMARY:Becoming Grant-Ready for Your Nonprofit
DESCRIPTION:This workshop guides you through the steps needed to position your nonprofit for successful grant applications. Learn practical actions you can take within 90 days to enhance your organization's readiness for funding. Understand what grant funders are looking for and how to meet their criteria effectively. By the end of this session\, you'll have the confidence and knowledge to pursue grant opportunities. \n\n\n\nWhat You'll Learn:\n\n\n\nHow to document and complete 12 key actions to position your nonprofit.\n\nCriteria that grant funders use to evaluate applications.\n\nSteps to enhance your nonprofit's branding and visibility.\n\nStrategies for increasing your chances of securing funding.
X-ALT-DESC;FMTTYPE=text/html:This workshop guides you through the steps needed to position your nonprofit for successful grant applications. Learn practical actions you can take within 90 days to enhance your organization&rsquo\;s readiness for funding. Understand what grant funders are looking for and how to meet their criteria effectively. By the end of this session\, you&rsquo\;ll have the confidence and knowledge to pursue grant opportunities.&nbsp\;<br />\n<br />\nWhat You&rsquo\;ll Learn:<br />\n<br />\nHow to document and complete 12 key actions to position your nonprofit.<br />\nCriteria that grant funders use to evaluate applications.<br />\nSteps to enhance your nonprofit&rsquo\;s branding and visibility.<br />\nStrategies for increasing your chances of securing funding.
LOCATION:Online Event
UID:e.3485.19957
SEQUENCE:3
DTSTAMP:20260421T225306Z
URL:https://www.mountdora.com/events/details/becoming-grant-ready-for-your-nonprofit-03-17-2026-19957
END:VEVENT

END:VCALENDAR
